{"text_format":"1","workbook":"xlsx","n_sheets":15,"sheets":["初期画面","４月","５月","６月","７月","８月","９月","１０月","１１月","１２月","１月","２月","３月","使用申込書","祝日"],"not_rendered":{"charts":0,"images":0,"macros":1,"external_links":0,"defined_names":26,"comments":0,"pivot_tables":0},"unopened":[],"bounds":{"document_bytes":16777216,"sheet_cells":100000,"rows_first":2000,"rows_last":500,"rows_between":2000,"halvings":0,"cell_chars":16384,"cell_head_chars":4096},"cells_cut":0,"cells_raw":0,"read":"whole","date_system":"1900"}

{"sheet":"初期画面","index":0,"n_rows":20,"n_cols":17,"rows_kept":20,"cut":false,"hidden":false,"merged":[[3,2,4,3],[3,4,3,6],[1,9,1,11]]}
[]
[null,null,null,null,null,null,null,null,null,"会議室年間使用状況",null,null,null,"会議室使用団体連絡先"]
[null,null,2020,"年度","今年度は，",null,null,null,null,"午前","午後","夜間","番号","使用団体名","代表者","住所","電話"]
[null,null,"会議室使用表",null,{"$f":"IF(DAY(DATE('２月'!$B$4,'２月'!$B$5,29))=29,\"閏年です。\",\"閏年ではありません。\")","v":"閏年ではありません。"},null,null,null,null,{"$f":"'３月'!G43","v":3},{"$f":"'３月'!I43","v":17},{"$f":"'３月'!J43","v":8},1,"都留市学童保育連絡協議会","志村裕美","都留市小野８６","090-6953-7583"]
[null,null,null,null,null,null,null,null,null,"各シート休日表示",null,"使用合計",2,"つる山友会","鈴木秀一","都留市上谷4-10-9","090-4129-9578"]
[null,null,null,null,null,null,null,null,null,"土曜日",null,{"$f":"'３月'!G44","v":28},3,"ソロプチミスト山梨-芙蓉","浅沼和栄","富士吉田市","0555-23-8241"]
[null,null,null,null,null,null,null,null,null,"日曜日",null,null,4,"都留市養護教員会","藤江まゆみ","谷二小","0554-43-2335"]
[null,null,null,null,null,null,{"$f":"IF(DAY(DATE('２月'!$B$4,'２月'!$B$5,29))=29,\"29日\",\"\")","v":""},null,null,"祝日",null,null,5,"都留市合唱連盟","安富恵美子","都留市上谷6-1-23","0554-43-3028"]
[null,null,null,null,null,null,null,null,null,null,null,null,6,"退職公務員連盟","清水兄三","研修センター","090-2661-5868"]
[null,null,null,null,null,null,null,null,null,null,null,null,7,"教育会","清水兄三","研修センター","090-2661-5868"]
[null,null,null,null,null,null,null,null,null,null,null,null,8,"都留市学校事務共同実施担当者会","川村いづみ","谷一小","43-3105"]
[null,null,null,null,null,null,null,null,null,null,null,null,9,"教頭会"]
[null,null,null,null,null,null,null,null,null,null,null,null,10]
[null,null,null,null,null,null,null,null,null,null,null,null,11]
[null,null,null,null,null,null,null,null,null,null,null,null,12]
[null,null,null,null,null,null,null,null,null,null,null,null,13]
[null,null,null,null,null,null,null,null,null,null,null,null,14]
[null,null,null,null,null,null,null,null,null,null,null,null,15]
[null,null,null,null,null,null,null,null,null,null,null,null,16]
[null,null,null,null,null,null,null,null,null,null,null,null,17]

{"sheet":"４月","index":1,"n_rows":44,"n_cols":16,"rows_kept":44,"cut":false,"hidden":false,"merged":[[43,2,43,5],[0,2,0,9],[3,1,3,2],[4,1,4,2],[9,5,9,6],[9,7,9,8],[41,2,41,3],[42,2,42,3],[17,9,17,10]]}
[null,null,"会議室貸出使用予定表"]
[null,null,null,"番号",null,"使用団体連絡先","代表者","住所","電話"]
[null,null,null,2,null,{"$f":"IF($D3=\"\",\"\",VLOOKUP($D3,初期画面!$M$4:$Q$20,2))","v":"つる山友会"},{"$f":"IF($D3=\"\",\"\",VLOOKUP($D3,初期画面!$M$4:$Q$20,3))","v":"鈴木秀一"},{"$f":"IF($D3=\"\",\"\",VLOOKUP($D3,初期画面!$M$4:$Q$20,4))","v":"都留市上谷4-10-9"},{"$f":"IF($D3=\"\",\"\",VLOOKUP($D3,初期画面!$M$4:$Q$20,5))","v":"090-4129-9578"}]
[null,{"$f":"初期画面!C3","v":2020},null,3,null,{"$f":"IF($D4=\"\",\"\",VLOOKUP($D4,初期画面!$M$4:$Q$20,2))","v":"ソロプチミスト山梨-芙蓉"},{"$f":"IF($D4=\"\",\"\",VLOOKUP($D4,初期画面!$M$4:$Q$20,3))","v":"浅沼和栄"},{"$f":"IF($D4=\"\",\"\",VLOOKUP($D4,初期画面!$M$4:$Q$20,4))","v":"富士吉田市"},{"$f":"IF($D4=\"\",\"\",VLOOKUP($D4,初期画面!$M$4:$Q$20,5))","v":"0555-23-8241"}]
[null,4,null,null,null,{"$f":"IF($D5=\"\",\"\",VLOOKUP($D5,初期画面!$M$4:$Q$20,2))","v":""},{"$f":"IF($D5=\"\",\"\",VLOOKUP($D5,初期画面!$M$4:$Q$20,3))","v":""},{"$f":"IF($D5=\"\",\"\",VLOOKUP($D5,初期画面!$M$4:$Q$20,4))","v":""},{"$f":"IF($D5=\"\",\"\",VLOOKUP($D5,初期画面!$M$4:$Q$20,5))","v":""},{"$f":"IF(AND(祝日!$B2<=DATE(初期画面!$C$3,$B$5,31),祝日!$B2>=DATE(初期画面!$C$3,$B$5,1)),祝日!B2,\"\")","v":"2020-04-29"},{"$f":"IF(AND(祝日!$B2<=DATE(初期画面!$C$3,$B$5,31),祝日!$B2>=DATE(初期画面!$C$3,$B$5,1)),祝日!C2,\"\")","v":"昭和の日"}]
[null,null,null,null,null,{"$f":"IF($D6=\"\",\"\",VLOOKUP($D6,初期画面!$M$4:$Q$20,2))","v":""},{"$f":"IF($D6=\"\",\"\",VLOOKUP($D6,初期画面!$M$4:$Q$20,3))","v":""},{"$f":"IF($D6=\"\",\"\",VLOOKUP($D6,初期画面!$M$4:$Q$20,4))","v":""},{"$f":"IF($D6=\"\",\"\",VLOOKUP($D6,初期画面!$M$4:$Q$20,5))","v":""},{"$f":"IF(AND(祝日!$B3<=DATE(初期画面!$C$3,$B$5,31),祝日!$B3>=DATE(初期画面!$C$3,$B$5,1)),祝日!B3,\"\")","v":""},{"$f":"IF(AND(祝日!$B3<=DATE(初期画面!$C$3,$B$5,31),祝日!$B3>=DATE(初期画面!$C$3,$B$5,1)),祝日!C3,\"\")","v":""}]
[null,null,null,null,null,{"$f":"IF($D7=\"\",\"\",VLOOKUP($D7,初期画面!$M$4:$Q$20,2))","v":""},{"$f":"IF($D7=\"\",\"\",VLOOKUP($D7,初期画面!$M$4:$Q$20,3))","v":""},{"$f":"IF($D7=\"\",\"\",VLOOKUP($D7,初期画面!$M$4:$Q$20,4))","v":""},{"$f":"IF($D7=\"\",\"\",VLOOKUP($D7,初期画面!$M$4:$Q$20,5))","v":""}]
[null,null,null,null,null,{"$f":"IF($D8=\"\",\"\",VLOOKUP($D8,初期画面!$M$4:$Q$20,2))","v":""},{"$f":"IF($D8=\"\",\"\",VLOOKUP($D8,初期画面!$M$4:$Q$20,3))","v":""},{"$f":"IF($D8=\"\",\"\",VLOOKUP($D8,初期画面!$M$4:$Q$20,4))","v":""},{"$f":"IF($D8=\"\",\"\",VLOOKUP($D8,初期画面!$M$4:$Q$20,5))","v":""}]
[null,null,null,null,null,{"$f":"IF($D9=\"\",\"\",VLOOKUP($D9,初期画面!$M$4:$Q$20,2))","v":""},{"$f":"IF($D9=\"\",\"\",VLOOKUP($D9,初期画面!$M$4:$Q$20,3))","v":""},{"$f":"IF($D9=\"\",\"\",VLOOKUP($D9,初期画面!$M$4:$Q$20,4))","v":""},{"$f":"IF($D9=\"\",\"\",VLOOKUP($D9,初期画面!$M$4:$Q$20,5))","v":""}]
[null,null,"日","曜",null,"午前",null,"午後",null,"夜間","相談室",null,null,null,{"$f":"初期画面!M3","v":"番号"},{"$f":"初期画面!N3","v":"使用団体名"}]
[null,null,1,{"$f":"IF(C11=\"\",\"\",WEEKDAY(DATE($B$4,$B$5,C11)))","v":4},{"$f":"IF(C11=\"\",\"\",DATE($B$4,$B$5,$C11))","v":43922},null,null,"15:30~市教委",null,null,null,null,null,null,{"$f":"初期画面!M4","v":1},{"$f":"初期画面!N4","v":"都留市学童保育連絡協議会"}]
[null,null,2,{"$f":"IF(C12=\"\",\"\",WEEKDAY(DATE($B$4,$B$5,C12)))","v":5},{"$f":"IF(C12=\"\",\"\",DATE($B$4,$B$5,$C12))","v":43923},null,null,null,null,null,null,null,null,null,{"$f":"初期画面!M5","v":2},{"$f":"初期画面!N5","v":"つる山友会"}]
[null,null,3,6,43924,null,null,null,null,null,null,null,null,null,{"$f":"初期画面!M6","v":3},{"$f":"初期画面!N6","v":"ソロプチミスト山梨-芙蓉"}]
[null,null,4,7,43925,null,null,null,null,null,null,null,null,null,{"$f":"初期画面!M7","v":4},{"$f":"初期画面!N7","v":"都留市養護教員会"}]
[null,null,5,1,43926,null,null,null,null,null,null,null,null,null,{"$f":"初期画面!M8","v":5},{"$f":"初期画面!N8","v":"都留市合唱連盟"}]
[null,null,6,2,43927,null,null,null,null,null,null,null,null,null,{"$f":"初期画面!M9","v":6},{"$f":"初期画面!N9","v":"退職公務員連盟"}]
[null,null,7,3,43928,null,null,null,null,null,null,null,null,null,{"$f":"初期画面!M10","v":7},{"$f":"初期画面!N10","v":"教育会"}]
[null,null,8,4,43929,null,null,null,null,"18:30~21:00山友会",null,null,null,null,{"$f":"初期画面!M11","v":8},{"$f":"初期画面!N11","v":"都留市学校事務共同実施担当者会"}]
[null,null,9,5,43930,null,null,null,null,null,null,null,null,null,{"$f":"初期画面!M12","v":9},{"$f":"初期画面!N12","v":"教頭会"}]
[null,null,10,6,43931,null,null,null,null,null,null,null,null,null,{"$f":"初期画面!M13","v":10},{"$f":"初期画面!N13","v":0}]
[null,null,11,7,43932,null,null,null,null,null,null,null,null,null,{"$f":"初期画面!M14","v":11},{"$f":"初期画面!N14","v":0}]
[null,null,12,1,43933,null,null,null,null,null,null,null,null,null,{"$f":"初期画面!M15","v":12},{"$f":"初期画面!N15","v":0}]
[null,null,13,2,43934,null,null,null,null,null,null,null,null,null,{"$f":"初期画面!M16","v":13},{"$f":"初期画面!N16","v":0}]
[null,null,14,3,43935,null,null,"13:30~15:30ソロプチミスト山梨",null,null,null,null,null,null,{"$f":"初期画面!M17","v":14},{"$f":"初期画面!N17","v":0}]
[null,null,15,4,43936,null,null,"14:00~ウイスク検査",null,null,null,null,null,null,{"$f":"初期画面!M18","v":15},{"$f":"初期画面!N18","v":0}]
[null,null,16,5,43937,null,"11:00~教育相談",null,null,null,null,null,null,null,{"$f":"初期画面!M19","v":16},{"$f":"初期画面!N19","v":0}]
[null,null,17,6,43938,null,null,null,null,null,null,null,null,null,{"$f":"初期画面!M20","v":17},{"$f":"初期画面!N20","v":0}]
[null,null,18,7,43939]
[null,null,19,1,43940]
[null,null,20,2,43941]
[null,null,21,3,43942]
[null,null,22,4,43943]
[null,null,23,5,43944]
[null,null,24,6,43945]
[null,null,25,7,43946]
[null,null,26,1,43947]
[null,null,27,2,43948]
[null,null,28,3,43949]
[null,null,29,4,43950]
[null,null,30,5,43951]
[null,null,null,"",""]
[null,null,"当月合計",null,null,null,{"$f":"COUNTA(G11:G41)+COUNTA(F11:F41)","v":1},null,{"$f":"COUNTA(I11:I41)+COUNTA(H11:H41)","v":3},{"$f":"COUNTA(J11:J41)","v":1},{"$f":"COUNTA(K11:K41)","v":0}]
[null,null,"累計",null,null,null,{"$f":"G42","v":1},null,{"$f":"I42","v":3},{"$f":"J42","v":1}]
[null,null,"貸出回数総累計（相談室を除く）",null,null,null,{"$f":"SUM(G43,I43,J43)","v":5}]

{"sheet":"５月","index":2,"n_rows":44,"n_cols":16,"rows_kept":44,"cut":false,"hidden":false,"merged":[[43,2,43,5],[0,2,0,9],[3,1,3,2],[4,1,4,2],[41,2,41,3],[42,2,42,3],[9,5,9,6],[9,7,9,8],[22,9,22,10]]}
[null,null,"会議室貸出使用予定表"]
[null,null,null,"番号",null,"使用団体連絡先","代表者","住所","電話",null,null,null,{"$f":"IF(AND(祝日!$B4<=DATE(初期画面!$C$3,$B$5,31),祝日!$B4>=DATE(初期画面!$C$3,$B$5,1)),祝日!B4,\"\")","v":"2020-05-03"},{"$f":"IF(AND(祝日!$B4<=DATE(初期画面!$C$3,$B$5,31),祝日!$B4>=DATE(初期画面!$C$3,$B$5,1)),祝日!C4,\"\")","v":"憲法記念日"}]
[null,null,null,2,null,{"$f":"IF($D3=\"\",\"\",VLOOKUP($D3,初期画面!$M$4:$Q$20,2))","v":"つる山友会"},{"$f":"IF($D3=\"\",\"\",VLOOKUP($D3,初期画面!$M$4:$Q$20,3))","v":"鈴木秀一"},{"$f":"IF($D3=\"\",\"\",VLOOKUP($D3,初期画面!$M$4:$Q$20,4))","v":"都留市上谷4-10-9"},{"$f":"IF($D3=\"\",\"\",VLOOKUP($D3,初期画面!$M$4:$Q$20,5))","v":"090-4129-9578"},null,null,null,{"$f":"IF(AND(祝日!$B5<=DATE(初期画面!$C$3,$B$5,31),祝日!$B5>=DATE(初期画面!$C$3,$B$5,1)),祝日!B5,\"\")","v":"2020-05-04"},{"$f":"IF(AND(祝日!$B5<=DATE(初期画面!$C$3,$B$5,31),祝日!$B5>=DATE(初期画面!$C$3,$B$5,1)),祝日!C5,\"\")","v":"みどりの日"}]
[null,{"$f":"'４月'!B4","v":2020},null,3,null,{"$f":"IF($D4=\"\",\"\",VLOOKUP($D4,初期画面!$M$4:$Q$20,2))","v":"ソロプチミスト山梨-芙蓉"},{"$f":"IF($D4=\"\",\"\",VLOOKUP($D4,初期画面!$M$4:$Q$20,3))","v":"浅沼和栄"},{"$f":"IF($D4=\"\",\"\",VLOOKUP($D4,初期画面!$M$4:$Q$20,4))","v":"富士吉田市"},{"$f":"IF($D4=\"\",\"\",VLOOKUP($D4,初期画面!$M$4:$Q$20,5))","v":"0555-23-8241"},null,null,null,{"$f":"IF(AND(祝日!$B6<=DATE(初期画面!$C$3,$B$5,31),祝日!$B6>=DATE(初期画面!$C$3,$B$5,1)),祝日!B6,\"\")","v":"2020-05-05"},{"$f":"IF(AND(祝日!$B6<=DATE(初期画面!$C$3,$B$5,31),祝日!$B6>=DATE(初期画面!$C$3,$B$5,1)),祝日!C6,\"\")","v":"こどもの日"}]
[null,5,null,null,null,{"$f":"IF($D5=\"\",\"\",VLOOKUP($D5,初期画面!$M$4:$Q$20,2))","v":""},{"$f":"IF($D5=\"\",\"\",VLOOKUP($D5,初期画面!$M$4:$Q$20,3))","v":""},{"$f":"IF($D5=\"\",\"\",VLOOKUP($D5,初期画面!$M$4:$Q$20,4))","v":""},{"$f":"IF($D5=\"\",\"\",VLOOKUP($D5,初期画面!$M$4:$Q$20,5))","v":""},null,null,null,{"$f":"IF(AND(祝日!$B7<=DATE(初期画面!$C$3,$B$5,31),祝日!$B7>=DATE(初期画面!$C$3,$B$5,1)),祝日!B7,\"\")","v":"2020-05-06"},{"$f":"IF(AND(祝日!$B7<=DATE(初期画面!$C$3,$B$5,31),祝日!$B7>=DATE(初期画面!$C$3,$B$5,1)),祝日!C7,\"\")","v":"振替休日"}]
[null,null,null,null,null,{"$f":"IF($D6=\"\",\"\",VLOOKUP($D6,初期画面!$M$4:$Q$20,2))","v":""},{"$f":"IF($D6=\"\",\"\",VLOOKUP($D6,初期画面!$M$4:$Q$20,3))","v":""},{"$f":"IF($D6=\"\",\"\",VLOOKUP($D6,初期画面!$M$4:$Q$20,4))","v":""},{"$f":"IF($D6=\"\",\"\",VLOOKUP($D6,初期画面!$M$4:$Q$20,5))","v":""}]
[null,null,null,null,null,{"$f":"IF($D7=\"\",\"\",VLOOKUP($D7,初期画面!$M$4:$Q$20,2))","v":""},{"$f":"IF($D7=\"\",\"\",VLOOKUP($D7,初期画面!$M$4:$Q$20,3))","v":""},{"$f":"IF($D7=\"\",\"\",VLOOKUP($D7,初期画面!$M$4:$Q$20,4))","v":""},{"$f":"IF($D7=\"\",\"\",VLOOKUP($D7,初期画面!$M$4:$Q$20,5))","v":""}]
[null,null,null,null,null,{"$f":"IF($D8=\"\",\"\",VLOOKUP($D8,初期画面!$M$4:$Q$20,2))","v":""},{"$f":"IF($D8=\"\",\"\",VLOOKUP($D8,初期画面!$M$4:$Q$20,3))","v":""},{"$f":"IF($D8=\"\",\"\",VLOOKUP($D8,初期画面!$M$4:$Q$20,4))","v":""},{"$f":"IF($D8=\"\",\"\",VLOOKUP($D8,初期画面!$M$4:$Q$20,5))","v":""}]
[null,null,null,null,null,{"$f":"IF($D9=\"\",\"\",VLOOKUP($D9,初期画面!$M$4:$Q$20,2))","v":""},{"$f":"IF($D9=\"\",\"\",VLOOKUP($D9,初期画面!$M$4:$Q$20,3))","v":""},{"$f":"IF($D9=\"\",\"\",VLOOKUP($D9,初期画面!$M$4:$Q$20,4))","v":""},{"$f":"IF($D9=\"\",\"\",VLOOKUP($D9,初期画面!$M$4:$Q$20,5))","v":""}]
[null,null,"日","曜",null,"午前",null,"午後",null,"夜間","相談室",null,null,null,{"$f":"初期画面!M3","v":"番号"},{"$f":"初期画面!N3","v":"使用団体名"}]
[null,null,1,{"$f":"IF(C11=\"\",\"\",WEEKDAY(DATE('４月'!$B$4,$B$5,C11)))","v":6},{"$f":"IF(C11=\"\",\"\",DATE($B$4,$B$5,$C11))","v":43952},null,null,null,null,null,null,null,null,null,{"$f":"初期画面!M4","v":1},{"$f":"初期画面!N4","v":"都留市学童保育連絡協議会"}]
[null,null,2,{"$f":"IF(C12=\"\",\"\",WEEKDAY(DATE('４月'!$B$4,$B$5,C12)))","v":7},{"$f":"IF(C12=\"\",\"\",DATE($B$4,$B$5,$C12))","v":43953},null,null,null,null,null,null,null,null,null,{"$f":"初期画面!M5","v":2},{"$f":"初期画面!N5","v":"つる山友会"}]
[null,null,3,{"$f":"IF(C13=\"\",\"\",WEEKDAY(DATE('４月'!$B$4,$B$5,C13)))","v":1},43954,null,null,null,null,null,null,null,null,null,{"$f":"初期画面!M6","v":3},{"$f":"初期画面!N6","v":"ソロプチミスト山梨-芙蓉"}]
[null,null,4,{"$f":"IF(C14=\"\",\"\",WEEKDAY(DATE('４月'!$B$4,$B$5,C14)))","v":2},43955,null,null,null,null,null,null,null,null,null,{"$f":"初期画面!M7","v":4},{"$f":"初期画面!N7","v":"都留市養護教員会"}]
[null,null,5,{"$f":"IF(C15=\"\",\"\",WEEKDAY(DATE('４月'!$B$4,$B$5,C15)))","v":3},43956,null,null,null,null,null,null,null,null,null,{"$f":"初期画面!M8","v":5},{"$f":"初期画面!N8","v":"都留市合唱連盟"}]
[null,null,6,{"$f":"IF(C16=\"\",\"\",WEEKDAY(DATE('４月'!$B$4,$B$5,C16)))","v":4},43957,null,null,null,null,null,null,null,null,null,{"$f":"初期画面!M9","v":6},{"$f":"初期画面!N9","v":"退職公務員連盟"}]
[null,null,7,{"$f":"IF(C17=\"\",\"\",WEEKDAY(DATE('４月'!$B$4,$B$5,C17)))","v":5},43958,null,null,null,null,null,null,null,null,null,{"$f":"初期画面!M10","v":7},{"$f":"初期画面!N10","v":"教育会"}]
[null,null,8,{"$f":"IF(C18=\"\",\"\",WEEKDAY(DATE('４月'!$B$4,$B$5,C18)))","v":6},43959,null,null,"15:00~17:00退公連（白戸）",null,null,null,null,null,null,{"$f":"初期画面!M11","v":8},{"$f":"初期画面!N11","v":"都留市学校事務共同実施担当者会"}]
[null,null,9,{"$f":"IF(C19=\"\",\"\",WEEKDAY(DATE('４月'!$B$4,$B$5,C19)))","v":7},43960,null,null,null,null,null,null,null,null,null,{"$f":"初期画面!M12","v":9},{"$f":"初期画面!N12","v":"教頭会"}]
[null,null,10,{"$f":"IF(C20=\"\",\"\",WEEKDAY(DATE('４月'!$B$4,$B$5,C20)))","v":1},43961,null,null,null,null,null,null,null,null,null,{"$f":"初期画面!M13","v":10},{"$f":"初期画面!N13","v":0}]
[null,null,11,{"$f":"IF(C21=\"\",\"\",WEEKDAY(DATE('４月'!$B$4,$B$5,C21)))","v":2},43962,null,null,null,null,null,null,null,null,null,{"$f":"初期画面!M14","v":11},{"$f":"初期画面!N14","v":0}]
[null,null,12,{"$f":"IF(C22=\"\",\"\",WEEKDAY(DATE('４月'!$B$4,$B$5,C22)))","v":3},43963,null,null,null,null,null,null,null,null,null,{"$f":"初期画面!M15","v":12},{"$f":"初期画面!N15","v":0}]
[null,null,13,{"$f":"IF(C23=\"\",\"\",WEEKDAY(DATE('４月'!$B$4,$B$5,C23)))","v":4},43964,null,null,null,null,null,null,null,null,null,{"$f":"初期画面!M16","v":13},{"$f":"初期画面!N16","v":0}]
[null,null,14,{"$f":"IF(C24=\"\",\"\",WEEKDAY(DATE('４月'!$B$4,$B$5,C24)))","v":5},43965,null,null,null,null,null,null,null,null,null,{"$f":"初期画面!M17","v":14},{"$f":"初期画面!N17","v":0}]
[null,null,15,{"$f":"IF(C25=\"\",\"\",WEEKDAY(DATE('４月'!$B$4,$B$5,C25)))","v":6},43966,null,null,null,null,null,null,null,null,null,{"$f":"初期画面!M18","v":15},{"$f":"初期画面!N18","v":0}]
[null,null,16,{"$f":"IF(C26=\"\",\"\",WEEKDAY(DATE('４月'!$B$4,$B$5,C26)))","v":7},43967,null,null,null,null,null,null,null,null,null,{"$f":"初期画面!M19","v":16},{"$f":"初期画面!N19","v":0}]
[null,null,17,{"$f":"IF(C27=\"\",\"\",WEEKDAY(DATE('４月'!$B$4,$B$5,C27)))","v":1},43968,null,null,null,null,null,null,null,null,null,{"$f":"初期画面!M20","v":17},{"$f":"初期画面!N20","v":0}]
[null,null,18,{"$f":"IF(C28=\"\",\"\",WEEKDAY(DATE('４月'!$B$4,$B$5,C28)))","v":2},43969]
[null,null,19,{"$f":"IF(C29=\"\",\"\",WEEKDAY(DATE('４月'!$B$4,$B$5,C29)))","v":3},43970]
[null,null,20,{"$f":"IF(C30=\"\",\"\",WEEKDAY(DATE('４月'!$B$4,$B$5,C30)))","v":4},43971,"10:00~通級打ち合わせ",null,"14:00~ウイスク検査"]
[null,null,21,{"$f":"IF(C31=\"\",\"\",WEEKDAY(DATE('４月'!$B$4,$B$5,C31)))","v":5},43972]
[null,null,22,{"$f":"IF(C32=\"\",\"\",WEEKDAY(DATE('４月'!$B$4,$B$5,C32)))","v":6},43973]
[null,null,23,{"$f":"IF(C33=\"\",\"\",WEEKDAY(DATE('４月'!$B$4,$B$5,C33)))","v":7},43974]
[null,null,24,{"$f":"IF(C34=\"\",\"\",WEEKDAY(DATE('４月'!$B$4,$B$5,C34)))","v":1},43975]
[null,null,25,{"$f":"IF(C35=\"\",\"\",WEEKDAY(DATE('４月'!$B$4,$B$5,C35)))","v":2},43976]
[null,null,26,{"$f":"IF(C36=\"\",\"\",WEEKDAY(DATE('４月'!$B$4,$B$5,C36)))","v":3},43977]
[null,null,27,{"$f":"IF(C37=\"\",\"\",WEEKDAY(DATE('４月'!$B$4,$B$5,C37)))","v":4},43978]
[null,null,28,{"$f":"IF(C38=\"\",\"\",WEEKDAY(DATE('４月'!$B$4,$B$5,C38)))","v":5},43979]
[null,null,29,{"$f":"IF(C39=\"\",\"\",WEEKDAY(DATE('４月'!$B$4,$B$5,C39)))","v":6},43980]
[null,null,30,{"$f":"IF(C40=\"\",\"\",WEEKDAY(DATE('４月'!$B$4,$B$5,C40)))","v":7},43981]
[null,null,31,{"$f":"IF(C41=\"\",\"\",WEEKDAY(DATE('４月'!$B$4,$B$5,C41)))","v":1},43982]
[null,null,"当月合計",null,null,null,{"$f":"COUNTA(G11:G41)+COUNTA(F11:F41)","v":1},null,{"$f":"COUNTA(I11:I41)+COUNTA(H11:H41)","v":2},{"$f":"COUNTA(J11:J41)","v":0},{"$f":"COUNTA(K11:K41)","v":0}]
[null,null,"累計",null,null,null,{"$f":"'４月'!G42+G42","v":2},null,{"$f":"'４月'!I42+I42","v":5},{"$f":"'４月'!J42+J42","v":1},{"$f":"'４月'!K42+K42","v":0}]
[null,null,"貸出回数総累計（相談室を除く）",null,null,null,{"$f":"SUM(G43,I43,J43)","v":8}]

{"sheet":"６月","index":3,"n_rows":44,"n_cols":16,"rows_kept":44,"cut":false,"hidden":false,"merged":[[3,1,3,2],[4,1,4,2],[43,2,43,5],[0,2,0,9],[41,2,41,3],[42,2,42,3],[9,5,9,6],[9,7,9,8]]}
[null,null,"会議室貸出使用予定表"]
[null,null,null,"番号",null,"使用団体連絡先","代表者","住所","電話"]
[null,null,null,2,null,{"$f":"IF($D3=\"\",\"\",VLOOKUP($D3,初期画面!$M$4:$Q$20,2))","v":"つる山友会"},{"$f":"IF($D3=\"\",\"\",VLOOKUP($D3,初期画面!$M$4:$Q$20,3))","v":"鈴木秀一"},{"$f":"IF($D3=\"\",\"\",VLOOKUP($D3,初期画面!$M$4:$Q$20,4))","v":"都留市上谷4-10-9"},{"$f":"IF($D3=\"\",\"\",VLOOKUP($D3,初期画面!$M$4:$Q$20,5))","v":"090-4129-9578"},{"$f":"IF(AND(祝日!$B8<=DATE(初期画面!$C$3,$B$5,31),祝日!$B8>=DATE(初期画面!$C$3,$B$5,1)),祝日!B8,\"\")","v":""},{"$f":"IF(AND(祝日!$B8<=DATE(初期画面!$C$3,$B$5,31),祝日!$B8>=DATE(初期画面!$C$3,$B$5,1)),祝日!C8,\"\")","v":""}]
[null,{"$f":"'４月'!B4","v":2020},null,null,null,{"$f":"IF($D4=\"\",\"\",VLOOKUP($D4,初期画面!$M$4:$Q$20,2))","v":""},{"$f":"IF($D4=\"\",\"\",VLOOKUP($D4,初期画面!$M$4:$Q$20,3))","v":""},{"$f":"IF($D4=\"\",\"\",VLOOKUP($D4,初期画面!$M$4:$Q$20,4))","v":""},{"$f":"IF($D4=\"\",\"\",VLOOKUP($D4,初期画面!$M$4:$Q$20,5))","v":""},{"$f":"IF(AND(祝日!$B9<=DATE(初期画面!$C$3,$B$5,31),祝日!$B9>=DATE(初期画面!$C$3,$B$5,1)),祝日!B9,\"\")","v":""},{"$f":"IF(AND(祝日!$B9<=DATE(初期画面!$C$3,$B$5,31),祝日!$B9>=DATE(初期画面!$C$3,$B$5,1)),祝日!C9,\"\")","v":""}]
[null,6,null,null,null,{"$f":"IF($D5=\"\",\"\",VLOOKUP($D5,初期画面!$M$4:$Q$20,2))","v":""},{"$f":"IF($D5=\"\",\"\",VLOOKUP($D5,初期画面!$M$4:$Q$20,3))","v":""},{"$f":"IF($D5=\"\",\"\",VLOOKUP($D5,初期画面!$M$4:$Q$20,4))","v":""},{"$f":"IF($D5=\"\",\"\",VLOOKUP($D5,初期画面!$M$4:$Q$20,5))","v":""}]
[null,null,null,null,null,{"$f":"IF($D6=\"\",\"\",VLOOKUP($D6,初期画面!$M$4:$Q$20,2))","v":""},{"$f":"IF($D6=\"\",\"\",VLOOKUP($D6,初期画面!$M$4:$Q$20,3))","v":""},{"$f":"IF($D6=\"\",\"\",VLOOKUP($D6,初期画面!$M$4:$Q$20,4))","v":""},{"$f":"IF($D6=\"\",\"\",VLOOKUP($D6,初期画面!$M$4:$Q$20,5))","v":""}]
[null,null,null,null,null,{"$f":"IF($D7=\"\",\"\",VLOOKUP($D7,初期画面!$M$4:$Q$20,2))","v":""},{"$f":"IF($D7=\"\",\"\",VLOOKUP($D7,初期画面!$M$4:$Q$20,3))","v":""},{"$f":"IF($D7=\"\",\"\",VLOOKUP($D7,初期画面!$M$4:$Q$20,4))","v":""},{"$f":"IF($D7=\"\",\"\",VLOOKUP($D7,初期画面!$M$4:$Q$20,5))","v":""}]
[null,null,null,null,null,{"$f":"IF($D8=\"\",\"\",VLOOKUP($D8,初期画面!$M$4:$Q$20,2))","v":""},{"$f":"IF($D8=\"\",\"\",VLOOKUP($D8,初期画面!$M$4:$Q$20,3))","v":""},{"$f":"IF($D8=\"\",\"\",VLOOKUP($D8,初期画面!$M$4:$Q$20,4))","v":""},{"$f":"IF($D8=\"\",\"\",VLOOKUP($D8,初期画面!$M$4:$Q$20,5))","v":""}]
[null,null,null,null,null,{"$f":"IF($D9=\"\",\"\",VLOOKUP($D9,初期画面!$M$4:$Q$20,2))","v":""},{"$f":"IF($D9=\"\",\"\",VLOOKUP($D9,初期画面!$M$4:$Q$20,3))","v":""},{"$f":"IF($D9=\"\",\"\",VLOOKUP($D9,初期画面!$M$4:$Q$20,4))","v":""},{"$f":"IF($D9=\"\",\"\",VLOOKUP($D9,初期画面!$M$4:$Q$20,5))","v":""}]
[null,null,"日","曜",null,"午前",null,"午後",null,"夜間","相談室",null,null,null,{"$f":"初期画面!M3","v":"番号"},{"$f":"初期画面!N3","v":"使用団体名"}]
[null,null,1,{"$f":"IF(C11=\"\",\"\",WEEKDAY(DATE('４月'!$B$4,$B$5,C11)))","v":2},{"$f":"IF(C11=\"\",\"\",DATE($B$4,$B$5,$C11))","v":43983},null,null,null,null,null,null,null,null,null,{"$f":"初期画面!M4","v":1},{"$f":"初期画面!N4","v":"都留市学童保育連絡協議会"}]
[null,null,2,{"$f":"IF(C12=\"\",\"\",WEEKDAY(DATE('４月'!$B$4,$B$5,C12)))","v":3},{"$f":"IF(C12=\"\",\"\",DATE($B$4,$B$5,$C12))","v":43984},null,null,null,null,null,null,null,null,null,{"$f":"初期画面!M5","v":2},{"$f":"初期画面!N5","v":"つる山友会"}]
[null,null,3,{"$f":"IF(C13=\"\",\"\",WEEKDAY(DATE('４月'!$B$4,$B$5,C13)))","v":4},43985,null,null,"14:00~ウイスク検査",null,null,null,null,null,null,{"$f":"初期画面!M6","v":3},{"$f":"初期画面!N6","v":"ソロプチミスト山梨-芙蓉"}]
[null,null,4,{"$f":"IF(C14=\"\",\"\",WEEKDAY(DATE('４月'!$B$4,$B$5,C14)))","v":5},43986,null,null,null,null,null,null,null,null,null,{"$f":"初期画面!M7","v":4},{"$f":"初期画面!N7","v":"都留市養護教員会"}]
[null,null,5,{"$f":"IF(C15=\"\",\"\",WEEKDAY(DATE('４月'!$B$4,$B$5,C15)))","v":6},43987,null,null,"14:00~就学相談",null,null,null,null,null,null,{"$f":"初期画面!M8","v":5},{"$f":"初期画面!N8","v":"都留市合唱連盟"}]
[null,null,6,{"$f":"IF(C16=\"\",\"\",WEEKDAY(DATE('４月'!$B$4,$B$5,C16)))","v":7},43988,null,null,null,null,null,null,null,null,null,{"$f":"初期画面!M9","v":6},{"$f":"初期画面!N9","v":"退職公務員連盟"}]
[null,null,7,{"$f":"IF(C17=\"\",\"\",WEEKDAY(DATE('４月'!$B$4,$B$5,C17)))","v":1},43989,null,null,null,null,null,null,null,null,null,{"$f":"初期画面!M10","v":7},{"$f":"初期画面!N10","v":"教育会"}]
[null,null,8,{"$f":"IF(C18=\"\",\"\",WEEKDAY(DATE('４月'!$B$4,$B$5,C18)))","v":2},43990,null,null,null,null,null,null,null,null,null,{"$f":"初期画面!M11","v":8},{"$f":"初期画面!N11","v":"都留市学校事務共同実施担当者会"}]
[null,null,9,{"$f":"IF(C19=\"\",\"\",WEEKDAY(DATE('４月'!$B$4,$B$5,C19)))","v":3},43991,null,null,null,null,null,null,null,null,null,{"$f":"初期画面!M12","v":9},{"$f":"初期画面!N12","v":"教頭会"}]
[null,null,10,{"$f":"IF(C20=\"\",\"\",WEEKDAY(DATE('４月'!$B$4,$B$5,C20)))","v":4},43992,null,null,null,null,"18:30~21:00山友会",null,null,null,null,{"$f":"初期画面!M13","v":10},{"$f":"初期画面!N13","v":0}]
[null,null,11,{"$f":"IF(C21=\"\",\"\",WEEKDAY(DATE('４月'!$B$4,$B$5,C21)))","v":5},43993,null,null,null,null,null,null,null,null,null,{"$f":"初期画面!M14","v":11},{"$f":"初期画面!N14","v":0}]
[null,null,12,{"$f":"IF(C22=\"\",\"\",WEEKDAY(DATE('４月'!$B$4,$B$5,C22)))","v":6},43994,null,null,null,null,null,null,null,null,null,{"$f":"初期画面!M15","v":12},{"$f":"初期画面!N15","v":0}]
[null,null,13,{"$f":"IF(C23=\"\",\"\",WEEKDAY(DATE('４月'!$B$4,$B$5,C23)))","v":7},43995,null,null,null,null,null,null,null,null,null,{"$f":"初期画面!M16","v":13},{"$f":"初期画面!N16","v":0}]
[null,null,14,{"$f":"IF(C24=\"\",\"\",WEEKDAY(DATE('４月'!$B$4,$B$5,C24)))","v":1},43996,null,null,null,null,null,null,null,null,null,{"$f":"初期画面!M17","v":14},{"$f":"初期画面!N17","v":0}]
[null,null,15,{"$f":"IF(C25=\"\",\"\",WEEKDAY(DATE('４月'!$B$4,$B$5,C25)))","v":2},43997,null,null,null,null,null,null,null,null,null,{"$f":"初期画面!M18","v":15},{"$f":"初期画面!N18","v":0}]
[null,null,16,{"$f":"IF(C26=\"\",\"\",WEEKDAY(DATE('４月'!$B$4,$B$5,C26)))","v":3},43998,null,null,null,null,null,null,null,null,null,{"$f":"初期画面!M19","v":16},{"$f":"初期画面!N19","v":0}]
[null,null,17,{"$f":"IF(C27=\"\",\"\",WEEKDAY(DATE('４月'!$B$4,$B$5,C27)))","v":4},43999,null,null,"16:15~ウイスク説明",null,null,null,null,null,null,{"$f":"初期画面!M20","v":17},{"$f":"初期画面!N20","v":0}]
[null,null,18,{"$f":"IF(C28=\"\",\"\",WEEKDAY(DATE('４月'!$B$4,$B$5,C28)))","v":5},44000]
[null,null,19,{"$f":"IF(C29=\"\",\"\",WEEKDAY(DATE('４月'!$B$4,$B$5,C29)))","v":6},44001]
[null,null,20,{"$f":"IF(C30=\"\",\"\",WEEKDAY(DATE('４月'!$B$4,$B$5,C30)))","v":7},44002]
[null,null,21,{"$f":"IF(C31=\"\",\"\",WEEKDAY(DATE('４月'!$B$4,$B$5,C31)))","v":1},44003]
[null,null,22,{"$f":"IF(C32=\"\",\"\",WEEKDAY(DATE('４月'!$B$4,$B$5,C32)))","v":2},44004]
[null,null,23,{"$f":"IF(C33=\"\",\"\",WEEKDAY(DATE('４月'!$B$4,$B$5,C33)))","v":3},44005,null,"10:00~就学相談"]
[null,null,24,{"$f":"IF(C34=\"\",\"\",WEEKDAY(DATE('４月'!$B$4,$B$5,C34)))","v":4},44006]
[null,null,25,{"$f":"IF(C35=\"\",\"\",WEEKDAY(DATE('４月'!$B$4,$B$5,C35)))","v":5},44007]
[null,null,26,{"$f":"IF(C36=\"\",\"\",WEEKDAY(DATE('４月'!$B$4,$B$5,C36)))","v":6},44008]
[null,null,27,{"$f":"IF(C37=\"\",\"\",WEEKDAY(DATE('４月'!$B$4,$B$5,C37)))","v":7},44009]
[null,null,28,{"$f":"IF(C38=\"\",\"\",WEEKDAY(DATE('４月'!$B$4,$B$5,C38)))","v":1},44010]
[null,null,29,{"$f":"IF(C39=\"\",\"\",WEEKDAY(DATE('４月'!$B$4,$B$5,C39)))","v":2},44011]
[null,null,30,{"$f":"IF(C40=\"\",\"\",WEEKDAY(DATE('４月'!$B$4,$B$5,C40)))","v":3},44012]
[null,null,null,{"$f":"IF(C41=\"\",\"\",WEEKDAY(DATE('４月'!$B$4,$B$5,C41)))","v":""},""]
[null,null,"当月合計",null,null,null,{"$f":"COUNTA(G11:G41)+COUNTA(F11:F41)","v":1},null,{"$f":"COUNTA(I11:I41)+COUNTA(H11:H41)","v":3},{"$f":"COUNTA(J11:J41)","v":1},{"$f":"COUNTA(K11:K41)","v":0}]
[null,null,"累計",null,null,null,{"$f":"'５月'!G43+G42","v":3},null,{"$f":"'５月'!I43+I42","v":8},{"$f":"'５月'!J43+J42","v":2},{"$f":"'５月'!K43+K42","v":0}]
[null,null,"貸出回数総累計（相談室を除く）",null,null,null,{"$f":"SUM(G43,I43,J43)","v":13}]

{"sheet":"７月","index":4,"n_rows":44,"n_cols":16,"rows_kept":44,"cut":false,"hidden":false,"merged":[[43,2,43,5],[42,2,42,3],[0,2,0,9],[3,1,3,2],[4,1,4,2],[9,5,9,6],[9,7,9,8],[41,2,41,3],[17,9,17,10]]}
[null,null,"会議室貸出使用予定表"]
[null,null,null,"番号",null,"使用団体連絡先","代表者","住所","電話",null,null,null,{"$f":"IF(AND(祝日!$B10<=DATE(初期画面!$C$3,$B$5,31),祝日!$B10>=DATE(初期画面!$C$3,$B$5,1)),祝日!B10,\"\")","v":"2020-07-23"},{"$f":"IF(AND(祝日!$B10<=DATE(初期画面!$C$3,$B$5,31),祝日!$B10>=DATE(初期画面!$C$3,$B$5,1)),祝日!C10,\"\")","v":"海の日"}]
[null,null,null,2,null,{"$f":"IF($D3=\"\",\"\",VLOOKUP($D3,初期画面!$M$4:$Q$20,2))","v":"つる山友会"},{"$f":"IF($D3=\"\",\"\",VLOOKUP($D3,初期画面!$M$4:$Q$20,3))","v":"鈴木秀一"},{"$f":"IF($D3=\"\",\"\",VLOOKUP($D3,初期画面!$M$4:$Q$20,4))","v":"都留市上谷4-10-9"},{"$f":"IF($D3=\"\",\"\",VLOOKUP($D3,初期画面!$M$4:$Q$20,5))","v":"090-4129-9578"},null,null,null,{"$f":"IF(AND(祝日!$B11<=DATE(初期画面!$C$3,$B$5,31),祝日!$B11>=DATE(初期画面!$C$3,$B$5,1)),祝日!B11,\"\")","v":44036},{"$f":"IF(AND(祝日!$B11<=DATE(初期画面!$C$3,$B$5,31),祝日!$B11>=DATE(初期画面!$C$3,$B$5,1)),祝日!C11,\"\")","v":"スポーツの日"}]
[null,{"$f":"'４月'!B4","v":2020},null,3,null,{"$f":"IF($D4=\"\",\"\",VLOOKUP($D4,初期画面!$M$4:$Q$20,2))","v":"ソロプチミスト山梨-芙蓉"},{"$f":"IF($D4=\"\",\"\",VLOOKUP($D4,初期画面!$M$4:$Q$20,3))","v":"浅沼和栄"},{"$f":"IF($D4=\"\",\"\",VLOOKUP($D4,初期画面!$M$4:$Q$20,4))","v":"富士吉田市"},{"$f":"IF($D4=\"\",\"\",VLOOKUP($D4,初期画面!$M$4:$Q$20,5))","v":"0555-23-8241"}]
[null,7,null,null,null,{"$f":"IF($D5=\"\",\"\",VLOOKUP($D5,初期画面!$M$4:$Q$20,2))","v":""},{"$f":"IF($D5=\"\",\"\",VLOOKUP($D5,初期画面!$M$4:$Q$20,3))","v":""},{"$f":"IF($D5=\"\",\"\",VLOOKUP($D5,初期画面!$M$4:$Q$20,4))","v":""},{"$f":"IF($D5=\"\",\"\",VLOOKUP($D5,初期画面!$M$4:$Q$20,5))","v":""}]
[null,null,null,null,null,{"$f":"IF($D6=\"\",\"\",VLOOKUP($D6,初期画面!$M$4:$Q$20,2))","v":""},{"$f":"IF($D6=\"\",\"\",VLOOKUP($D6,初期画面!$M$4:$Q$20,3))","v":""},{"$f":"IF($D6=\"\",\"\",VLOOKUP($D6,初期画面!$M$4:$Q$20,4))","v":""},{"$f":"IF($D6=\"\",\"\",VLOOKUP($D6,初期画面!$M$4:$Q$20,5))","v":""}]
[null,null,null,null,null,{"$f":"IF($D7=\"\",\"\",VLOOKUP($D7,初期画面!$M$4:$Q$20,2))","v":""},{"$f":"IF($D7=\"\",\"\",VLOOKUP($D7,初期画面!$M$4:$Q$20,3))","v":""},{"$f":"IF($D7=\"\",\"\",VLOOKUP($D7,初期画面!$M$4:$Q$20,4))","v":""},{"$f":"IF($D7=\"\",\"\",VLOOKUP($D7,初期画面!$M$4:$Q$20,5))","v":""}]
[null,null,null,null,null,{"$f":"IF($D8=\"\",\"\",VLOOKUP($D8,初期画面!$M$4:$Q$20,2))","v":""},{"$f":"IF($D8=\"\",\"\",VLOOKUP($D8,初期画面!$M$4:$Q$20,3))","v":""},{"$f":"IF($D8=\"\",\"\",VLOOKUP($D8,初期画面!$M$4:$Q$20,4))","v":""},{"$f":"IF($D8=\"\",\"\",VLOOKUP($D8,初期画面!$M$4:$Q$20,5))","v":""}]
[null,null,null,null,null,{"$f":"IF($D9=\"\",\"\",VLOOKUP($D9,初期画面!$M$4:$Q$20,2))","v":""},{"$f":"IF($D9=\"\",\"\",VLOOKUP($D9,初期画面!$M$4:$Q$20,3))","v":""},{"$f":"IF($D9=\"\",\"\",VLOOKUP($D9,初期画面!$M$4:$Q$20,4))","v":""},{"$f":"IF($D9=\"\",\"\",VLOOKUP($D9,初期画面!$M$4:$Q$20,5))","v":""}]
[null,null,"日","曜",null,"午前",null,"午後",null,"夜間","相談室",null,null,null,{"$f":"初期画面!M3","v":"番号"},{"$f":"初期画面!N3","v":"使用団体名"}]
[null,null,1,{"$f":"IF(C11=\"\",\"\",WEEKDAY(DATE('４月'!$B$4,$B$5,C11)))","v":4},{"$f":"IF(C11=\"\",\"\",DATE($B$4,$B$5,$C11))","v":44013},null,null,null,null,null,null,null,null,null,{"$f":"初期画面!M4","v":1},{"$f":"初期画面!N4","v":"都留市学童保育連絡協議会"}]
[null,null,2,{"$f":"IF(C12=\"\",\"\",WEEKDAY(DATE('４月'!$B$4,$B$5,C12)))","v":5},{"$f":"IF(C12=\"\",\"\",DATE($B$4,$B$5,$C12))","v":44014},null,null,null,null,null,null,null,null,null,{"$f":"初期画面!M5","v":2},{"$f":"初期画面!N5","v":"つる山友会"}]
[null,null,3,{"$f":"IF(C13=\"\",\"\",WEEKDAY(DATE('４月'!$B$4,$B$5,C13)))","v":6},44015,null,null,null,null,null,null,null,null,null,{"$f":"初期画面!M6","v":3},{"$f":"初期画面!N6","v":"ソロプチミスト山梨-芙蓉"}]
[null,null,4,{"$f":"IF(C14=\"\",\"\",WEEKDAY(DATE('４月'!$B$4,$B$5,C14)))","v":7},44016,null,null,null,null,null,null,null,null,null,{"$f":"初期画面!M7","v":4},{"$f":"初期画面!N7","v":"都留市養護教員会"}]
[null,null,5,{"$f":"IF(C15=\"\",\"\",WEEKDAY(DATE('４月'!$B$4,$B$5,C15)))","v":1},44017,null,null,null,null,null,null,null,null,null,{"$f":"初期画面!M8","v":5},{"$f":"初期画面!N8","v":"都留市合唱連盟"}]
[null,null,6,{"$f":"IF(C16=\"\",\"\",WEEKDAY(DATE('４月'!$B$4,$B$5,C16)))","v":2},44018,null,null,null,null,null,null,null,null,null,{"$f":"初期画面!M9","v":6},{"$f":"初期画面!N9","v":"退職公務員連盟"}]
[null,null,7,{"$f":"IF(C17=\"\",\"\",WEEKDAY(DATE('４月'!$B$4,$B$5,C17)))","v":3},44019,null,null,null,null,null,null,null,null,null,{"$f":"初期画面!M10","v":7},{"$f":"初期画面!N10","v":"教育会"}]
[null,null,8,{"$f":"IF(C18=\"\",\"\",WEEKDAY(DATE('４月'!$B$4,$B$5,C18)))","v":4},44020,null,null,null,null,"18:30~21:00山友会",null,null,null,null,{"$f":"初期画面!M11","v":8},{"$f":"初期画面!N11","v":"都留市学校事務共同実施担当者会"}]
[null,null,9,{"$f":"IF(C19=\"\",\"\",WEEKDAY(DATE('４月'!$B$4,$B$5,C19)))","v":5},44021,null,null,null,null,null,null,null,null,null,{"$f":"初期画面!M12","v":9},{"$f":"初期画面!N12","v":"教頭会"}]
[null,null,10,{"$f":"IF(C20=\"\",\"\",WEEKDAY(DATE('４月'!$B$4,$B$5,C20)))","v":6},44022,null,null,null,null,null,null,null,null,null,{"$f":"初期画面!M13","v":10},{"$f":"初期画面!N13","v":0}]
[null,null,11,{"$f":"IF(C21=\"\",\"\",WEEKDAY(DATE('４月'!$B$4,$B$5,C21)))","v":7},44023,null,null,null,null,null,null,null,null,null,{"$f":"初期画面!M14","v":11},{"$f":"初期画面!N14","v":0}]
[null,null,12,{"$f":"IF(C22=\"\",\"\",WEEKDAY(DATE('４月'!$B$4,$B$5,C22)))","v":1},44024,null,null,null,null,null,null,null,null,null,{"$f":"初期画面!M15","v":12},{"$f":"初期画面!N15","v":0}]
[null,null,13,{"$f":"IF(C23=\"\",\"\",WEEKDAY(DATE('４月'!$B$4,$B$5,C23)))","v":2},44025,null,null,null,null,null,null,null,null,null,{"$f":"初期画面!M16","v":13},{"$f":"初期画面!N16","v":0}]
[null,null,14,{"$f":"IF(C24=\"\",\"\",WEEKDAY(DATE('４月'!$B$4,$B$5,C24)))","v":3},44026,null,null,"13:30~15:30ソロプチミスト山梨",null,null,null,null,null,null,{"$f":"初期画面!M17","v":14},{"$f":"初期画面!N17","v":0}]
[null,null,15,{"$f":"IF(C25=\"\",\"\",WEEKDAY(DATE('４月'!$B$4,$B$5,C25)))","v":4},44027,null,null,null,null,null,null,null,null,null,{"$f":"初期画面!M18","v":15},{"$f":"初期画面!N18","v":0}]
[null,null,16,{"$f":"IF(C26=\"\",\"\",WEEKDAY(DATE('４月'!$B$4,$B$5,C26)))","v":5},44028,null,null,null,null,null,null,null,null,null,{"$f":"初期画面!M19","v":16},{"$f":"初期画面!N19","v":0}]
[null,null,17,{"$f":"IF(C27=\"\",\"\",WEEKDAY(DATE('４月'!$B$4,$B$5,C27)))","v":6},44029,null,null,null,null,null,null,null,null,null,{"$f":"初期画面!M20","v":17},{"$f":"初期画面!N20","v":0}]
[null,null,18,{"$f":"IF(C28=\"\",\"\",WEEKDAY(DATE('４月'!$B$4,$B$5,C28)))","v":7},44030]
[null,null,19,{"$f":"IF(C29=\"\",\"\",WEEKDAY(DATE('４月'!$B$4,$B$5,C29)))","v":1},44031]
[null,null,20,{"$f":"IF(C30=\"\",\"\",WEEKDAY(DATE('４月'!$B$4,$B$5,C30)))","v":2},44032]
[null,null,21,{"$f":"IF(C31=\"\",\"\",WEEKDAY(DATE('４月'!$B$4,$B$5,C31)))","v":3},44033]
[null,null,22,{"$f":"IF(C32=\"\",\"\",WEEKDAY(DATE('４月'!$B$4,$B$5,C32)))","v":4},44034]
[null,null,23,{"$f":"IF(C33=\"\",\"\",WEEKDAY(DATE('４月'!$B$4,$B$5,C33)))","v":5},44035]
[null,null,24,{"$f":"IF(C34=\"\",\"\",WEEKDAY(DATE('４月'!$B$4,$B$5,C34)))","v":6},44036]
[null,null,25,{"$f":"IF(C35=\"\",\"\",WEEKDAY(DATE('４月'!$B$4,$B$5,C35)))","v":7},44037]
[null,null,26,{"$f":"IF(C36=\"\",\"\",WEEKDAY(DATE('４月'!$B$4,$B$5,C36)))","v":1},44038]
[null,null,27,{"$f":"IF(C37=\"\",\"\",WEEKDAY(DATE('４月'!$B$4,$B$5,C37)))","v":2},44039]
[null,null,28,{"$f":"IF(C38=\"\",\"\",WEEKDAY(DATE('４月'!$B$4,$B$5,C38)))","v":3},44040]
[null,null,29,{"$f":"IF(C39=\"\",\"\",WEEKDAY(DATE('４月'!$B$4,$B$5,C39)))","v":4},44041]
[null,null,30,{"$f":"IF(C40=\"\",\"\",WEEKDAY(DATE('４月'!$B$4,$B$5,C40)))","v":5},44042]
[null,null,31,{"$f":"IF(C41=\"\",\"\",WEEKDAY(DATE('４月'!$B$4,$B$5,C41)))","v":6},44043]
[null,null,"当月合計",null,null,null,{"$f":"COUNTA(G11:G41)+COUNTA(F11:F41)","v":0},null,{"$f":"COUNTA(I11:I41)+COUNTA(H11:H41)","v":1},{"$f":"COUNTA(J11:J41)","v":1},{"$f":"COUNTA(K11:K41)","v":0}]
[null,null,"累計",null,null,null,{"$f":"'６月'!G43+G42","v":3},null,{"$f":"'６月'!I43+I42","v":9},{"$f":"'６月'!J43+J42","v":3},{"$f":"'６月'!K43+K42","v":0}]
[null,null,"貸出回数総累計（相談室を除く）",null,null,null,{"$f":"SUM(G43,I43,J43)","v":15}]

{"sheet":"８月","index":5,"n_rows":44,"n_cols":16,"rows_kept":44,"cut":false,"hidden":false,"merged":[[43,2,43,5],[0,2,0,9],[3,1,3,2],[4,1,4,2],[9,5,9,6],[9,7,9,8],[41,2,41,3],[42,2,42,3],[21,9,21,10]]}
[null,null,"会議室貸出使用予定表"]
[null,null,null,"番号",null,"使用団体連絡先","代表者","住所","電話",null,null,null,{"$f":"IF(AND(祝日!$B12<=DATE(初期画面!$C$3,$B$5,31),祝日!$B12>=DATE(初期画面!$C$3,$B$5,1)),祝日!B12,\"\")","v":"2020-08-10"},{"$f":"IF(AND(祝日!$B12<=DATE(初期画面!$C$3,$B$5,31),祝日!$B12>=DATE(初期画面!$C$3,$B$5,1)),祝日!C12,\"\")","v":"山の日"}]
[null,null,null,2,null,{"$f":"IF($D3=\"\",\"\",VLOOKUP($D3,初期画面!$M$4:$Q$20,2))","v":"つる山友会"},{"$f":"IF($D3=\"\",\"\",VLOOKUP($D3,初期画面!$M$4:$Q$20,3))","v":"鈴木秀一"},{"$f":"IF($D3=\"\",\"\",VLOOKUP($D3,初期画面!$M$4:$Q$20,4))","v":"都留市上谷4-10-9"},{"$f":"IF($D3=\"\",\"\",VLOOKUP($D3,初期画面!$M$4:$Q$20,5))","v":"090-4129-9578"},null,null,null,{"$f":"IF(AND(祝日!$B13<=DATE(初期画面!$C$3,$B$5,31),祝日!$B13>=DATE(初期画面!$C$3,$B$5,1)),祝日!B13,\"\")","v":""},{"$f":"IF(AND(祝日!$B13<=DATE(初期画面!$C$3,$B$5,31),祝日!$B13>=DATE(初期画面!$C$3,$B$5,1)),祝日!C13,\"\")","v":""}]
[null,{"$f":"'４月'!B4","v":2020},null,null,null,{"$f":"IF($D4=\"\",\"\",VLOOKUP($D4,初期画面!$M$4:$Q$20,2))","v":""},{"$f":"IF($D4=\"\",\"\",VLOOKUP($D4,初期画面!$M$4:$Q$20,3))","v":""},{"$f":"IF($D4=\"\",\"\",VLOOKUP($D4,初期画面!$M$4:$Q$20,4))","v":""},{"$f":"IF($D4=\"\",\"\",VLOOKUP($D4,初期画面!$M$4:$Q$20,5))","v":""}]
[null,8,null,null,null,{"$f":"IF($D5=\"\",\"\",VLOOKUP($D5,初期画面!$M$4:$Q$20,2))","v":""},{"$f":"IF($D5=\"\",\"\",VLOOKUP($D5,初期画面!$M$4:$Q$20,3))","v":""},{"$f":"IF($D5=\"\",\"\",VLOOKUP($D5,初期画面!$M$4:$Q$20,4))","v":""},{"$f":"IF($D5=\"\",\"\",VLOOKUP($D5,初期画面!$M$4:$Q$20,5))","v":""}]
[null,null,null,null,null,{"$f":"IF($D6=\"\",\"\",VLOOKUP($D6,初期画面!$M$4:$Q$20,2))","v":""},{"$f":"IF($D6=\"\",\"\",VLOOKUP($D6,初期画面!$M$4:$Q$20,3))","v":""},{"$f":"IF($D6=\"\",\"\",VLOOKUP($D6,初期画面!$M$4:$Q$20,4))","v":""},{"$f":"IF($D6=\"\",\"\",VLOOKUP($D6,初期画面!$M$4:$Q$20,5))","v":""}]
[null,null,null,null,null,{"$f":"IF($D7=\"\",\"\",VLOOKUP($D7,初期画面!$M$4:$Q$20,2))","v":""},{"$f":"IF($D7=\"\",\"\",VLOOKUP($D7,初期画面!$M$4:$Q$20,3))","v":""},{"$f":"IF($D7=\"\",\"\",VLOOKUP($D7,初期画面!$M$4:$Q$20,4))","v":""},{"$f":"IF($D7=\"\",\"\",VLOOKUP($D7,初期画面!$M$4:$Q$20,5))","v":""}]
[null,null,null,null,null,{"$f":"IF($D8=\"\",\"\",VLOOKUP($D8,初期画面!$M$4:$Q$20,2))","v":""},{"$f":"IF($D8=\"\",\"\",VLOOKUP($D8,初期画面!$M$4:$Q$20,3))","v":""},{"$f":"IF($D8=\"\",\"\",VLOOKUP($D8,初期画面!$M$4:$Q$20,4))","v":""},{"$f":"IF($D8=\"\",\"\",VLOOKUP($D8,初期画面!$M$4:$Q$20,5))","v":""}]
[null,null,null,null,null,{"$f":"IF($D9=\"\",\"\",VLOOKUP($D9,初期画面!$M$4:$Q$20,2))","v":""},{"$f":"IF($D9=\"\",\"\",VLOOKUP($D9,初期画面!$M$4:$Q$20,3))","v":""},{"$f":"IF($D9=\"\",\"\",VLOOKUP($D9,初期画面!$M$4:$Q$20,4))","v":""},{"$f":"IF($D9=\"\",\"\",VLOOKUP($D9,初期画面!$M$4:$Q$20,5))","v":""}]
[null,null,"日","曜",null,"午前",null,"午後",null,"夜間","相談室",null,null,null,{"$f":"初期画面!M3","v":"番号"},{"$f":"初期画面!N3","v":"使用団体名"}]
[null,null,1,{"$f":"IF(C11=\"\",\"\",WEEKDAY(DATE('４月'!$B$4,$B$5,C11)))","v":7},{"$f":"IF(C11=\"\",\"\",DATE($B$4,$B$5,$C11))","v":44044},null,null,null,null,null,null,null,null,null,{"$f":"初期画面!M4","v":1},{"$f":"初期画面!N4","v":"都留市学童保育連絡協議会"}]
[null,null,2,{"$f":"IF(C12=\"\",\"\",WEEKDAY(DATE('４月'!$B$4,$B$5,C12)))","v":1},{"$f":"IF(C12=\"\",\"\",DATE($B$4,$B$5,$C12))","v":44045},null,null,null,null,null,null,null,null,null,{"$f":"初期画面!M5","v":2},{"$f":"初期画面!N5","v":"つる山友会"}]
[null,null,3,{"$f":"IF(C13=\"\",\"\",WEEKDAY(DATE('４月'!$B$4,$B$5,C13)))","v":2},44046,null,null,null,null,null,null,null,null,null,{"$f":"初期画面!M6","v":3},{"$f":"初期画面!N6","v":"ソロプチミスト山梨-芙蓉"}]
[null,null,4,{"$f":"IF(C14=\"\",\"\",WEEKDAY(DATE('４月'!$B$4,$B$5,C14)))","v":3},44047,null,null,null,null,null,null,null,null,null,{"$f":"初期画面!M7","v":4},{"$f":"初期画面!N7","v":"都留市養護教員会"}]
[null,null,5,{"$f":"IF(C15=\"\",\"\",WEEKDAY(DATE('４月'!$B$4,$B$5,C15)))","v":4},44048,null,null,null,null,null,null,null,null,null,{"$f":"初期画面!M8","v":5},{"$f":"初期画面!N8","v":"都留市合唱連盟"}]
[null,null,6,{"$f":"IF(C16=\"\",\"\",WEEKDAY(DATE('４月'!$B$4,$B$5,C16)))","v":5},44049,null,null,null,null,null,null,null,null,null,{"$f":"初期画面!M9","v":6},{"$f":"初期画面!N9","v":"退職公務員連盟"}]
[null,null,7,{"$f":"IF(C17=\"\",\"\",WEEKDAY(DATE('４月'!$B$4,$B$5,C17)))","v":6},44050,null,null,null,null,null,null,null,null,null,{"$f":"初期画面!M10","v":7},{"$f":"初期画面!N10","v":"教育会"}]
[null,null,8,{"$f":"IF(C18=\"\",\"\",WEEKDAY(DATE('４月'!$B$4,$B$5,C18)))","v":7},44051,null,null,null,null,null,null,null,null,null,{"$f":"初期画面!M11","v":8},{"$f":"初期画面!N11","v":"都留市学校事務共同実施担当者会"}]
[null,null,9,{"$f":"IF(C19=\"\",\"\",WEEKDAY(DATE('４月'!$B$4,$B$5,C19)))","v":1},44052,null,null,null,null,null,null,null,null,null,{"$f":"初期画面!M12","v":9},{"$f":"初期画面!N12","v":"教頭会"}]
[null,null,10,{"$f":"IF(C20=\"\",\"\",WEEKDAY(DATE('４月'!$B$4,$B$5,C20)))","v":2},44053,null,null,null,null,null,null,null,null,null,{"$f":"初期画面!M13","v":10},{"$f":"初期画面!N13","v":0}]
[null,null,11,{"$f":"IF(C21=\"\",\"\",WEEKDAY(DATE('４月'!$B$4,$B$5,C21)))","v":3},44054,null,null,"13:30~15:30ソロプチミスト山梨",null,null,null,null,null,null,{"$f":"初期画面!M14","v":11},{"$f":"初期画面!N14","v":0}]
[null,null,12,{"$f":"IF(C22=\"\",\"\",WEEKDAY(DATE('４月'!$B$4,$B$5,C22)))","v":4},44055,null,null,null,null,"18:30~21:00山友会",null,null,null,null,{"$f":"初期画面!M15","v":12},{"$f":"初期画面!N15","v":0}]
[null,null,13,{"$f":"IF(C23=\"\",\"\",WEEKDAY(DATE('４月'!$B$4,$B$5,C23)))","v":5},44056,null,null,null,null,null,null,null,null,null,{"$f":"初期画面!M16","v":13},{"$f":"初期画面!N16","v":0}]
[null,null,14,{"$f":"IF(C24=\"\",\"\",WEEKDAY(DATE('４月'!$B$4,$B$5,C24)))","v":6},44057,null,null,null,null,null,null,null,null,null,{"$f":"初期画面!M17","v":14},{"$f":"初期画面!N17","v":0}]
[null,null,15,{"$f":"IF(C25=\"\",\"\",WEEKDAY(DATE('４月'!$B$4,$B$5,C25)))","v":7},44058,null,null,null,null,null,null,null,null,null,{"$f":"初期画面!M18","v":15},{"$f":"初期画面!N18","v":0}]
[null,null,16,{"$f":"IF(C26=\"\",\"\",WEEKDAY(DATE('４月'!$B$4,$B$5,C26)))","v":1},44059,null,null,null,null,null,null,null,null,null,{"$f":"初期画面!M19","v":16},{"$f":"初期画面!N19","v":0}]
[null,null,17,{"$f":"IF(C27=\"\",\"\",WEEKDAY(DATE('４月'!$B$4,$B$5,C27)))","v":2},44060,null,null,null,null,null,null,null,null,null,{"$f":"初期画面!M20","v":17},{"$f":"初期画面!N20","v":0}]
[null,null,18,{"$f":"IF(C28=\"\",\"\",WEEKDAY(DATE('４月'!$B$4,$B$5,C28)))","v":3},44061]
[null,null,19,{"$f":"IF(C29=\"\",\"\",WEEKDAY(DATE('４月'!$B$4,$B$5,C29)))","v":4},44062]
[null,null,20,{"$f":"IF(C30=\"\",\"\",WEEKDAY(DATE('４月'!$B$4,$B$5,C30)))","v":5},44063]
[null,null,21,{"$f":"IF(C31=\"\",\"\",WEEKDAY(DATE('４月'!$B$4,$B$5,C31)))","v":6},44064]
[null,null,22,{"$f":"IF(C32=\"\",\"\",WEEKDAY(DATE('４月'!$B$4,$B$5,C32)))","v":7},44065]
[null,null,23,{"$f":"IF(C33=\"\",\"\",WEEKDAY(DATE('４月'!$B$4,$B$5,C33)))","v":1},44066]
[null,null,24,{"$f":"IF(C34=\"\",\"\",WEEKDAY(DATE('４月'!$B$4,$B$5,C34)))","v":2},44067]
[null,null,25,{"$f":"IF(C35=\"\",\"\",WEEKDAY(DATE('４月'!$B$4,$B$5,C35)))","v":3},44068]
[null,null,26,{"$f":"IF(C36=\"\",\"\",WEEKDAY(DATE('４月'!$B$4,$B$5,C36)))","v":4},44069]
[null,null,27,{"$f":"IF(C37=\"\",\"\",WEEKDAY(DATE('４月'!$B$4,$B$5,C37)))","v":5},44070]
[null,null,28,{"$f":"IF(C38=\"\",\"\",WEEKDAY(DATE('４月'!$B$4,$B$5,C38)))","v":6},44071]
[null,null,29,{"$f":"IF(C39=\"\",\"\",WEEKDAY(DATE('４月'!$B$4,$B$5,C39)))","v":7},44072]
[null,null,30,{"$f":"IF(C40=\"\",\"\",WEEKDAY(DATE('４月'!$B$4,$B$5,C40)))","v":1},44073]
[null,null,31,{"$f":"IF(C41=\"\",\"\",WEEKDAY(DATE('４月'!$B$4,$B$5,C41)))","v":2},44074]
[null,null,"当月合計",null,null,null,{"$f":"COUNTA(G11:G41)+COUNTA(F11:F41)","v":0},null,{"$f":"COUNTA(I11:I41)+COUNTA(H11:H41)","v":1},{"$f":"COUNTA(J11:J41)","v":1},{"$f":"COUNTA(K11:K41)","v":0}]
[null,null,"累計",null,null,null,{"$f":"'７月'!G43+G42","v":3},null,{"$f":"'７月'!I43+I42","v":10},{"$f":"'７月'!J43+J42","v":4},{"$f":"'７月'!K43+K42","v":0}]
[null,null,"貸出回数総累計（相談室を除く）",null,null,null,{"$f":"SUM(G43,I43,J43)","v":17}]

{"sheet":"９月","index":6,"n_rows":44,"n_cols":16,"rows_kept":44,"cut":false,"hidden":false,"merged":[[43,2,43,5],[0,2,0,9],[3,1,3,2],[4,1,4,2],[9,5,9,6],[9,7,9,8],[41,2,41,3],[42,2,42,3],[18,9,18,10]]}
[null,null,"会議室貸出使用予定表"]
[null,null,null,"番号",null,"使用団体連絡先","代表者","住所","電話",null,null,null,{"$f":"IF(AND(祝日!$B14<=DATE(初期画面!$C$3,$B$5,31),祝日!$B14>=DATE(初期画面!$C$3,$B$5,1)),祝日!B14,\"\")","v":"2020-09-21"},{"$f":"IF(AND(祝日!$B14<=DATE(初期画面!$C$3,$B$5,31),祝日!$B14>=DATE(初期画面!$C$3,$B$5,1)),祝日!C14,\"\")","v":"敬老の日"}]
[null,null,null,2,null,{"$f":"IF($D3=\"\",\"\",VLOOKUP($D3,初期画面!$M$4:$Q$20,2))","v":"つる山友会"},{"$f":"IF($D3=\"\",\"\",VLOOKUP($D3,初期画面!$M$4:$Q$20,3))","v":"鈴木秀一"},{"$f":"IF($D3=\"\",\"\",VLOOKUP($D3,初期画面!$M$4:$Q$20,4))","v":"都留市上谷4-10-9"},{"$f":"IF($D3=\"\",\"\",VLOOKUP($D3,初期画面!$M$4:$Q$20,5))","v":"090-4129-9578"},null,null,null,{"$f":"IF(AND(祝日!$B15<=DATE(初期画面!$C$3,$B$5,31),祝日!$B15>=DATE(初期画面!$C$3,$B$5,1)),祝日!B15,\"\")","v":"2020-09-22"},{"$f":"IF(AND(祝日!$B15<=DATE(初期画面!$C$3,$B$5,31),祝日!$B15>=DATE(初期画面!$C$3,$B$5,1)),祝日!C15,\"\")","v":"秋分の日"}]
[null,{"$f":"'４月'!B4","v":2020},null,9,null,{"$f":"IF($D4=\"\",\"\",VLOOKUP($D4,初期画面!$M$4:$Q$20,2))","v":"教頭会"},{"$f":"IF($D4=\"\",\"\",VLOOKUP($D4,初期画面!$M$4:$Q$20,3))","v":0},{"$f":"IF($D4=\"\",\"\",VLOOKUP($D4,初期画面!$M$4:$Q$20,4))","v":0},{"$f":"IF($D4=\"\",\"\",VLOOKUP($D4,初期画面!$M$4:$Q$20,5))","v":0},null,null,null,{"$f":"IF(AND(祝日!$B16<=DATE(初期画面!$C$3,$B$5,31),祝日!$B16>=DATE(初期画面!$C$3,$B$5,1)),祝日!B16,\"\")","v":""},{"$f":"IF(AND(祝日!$B16<=DATE(初期画面!$C$3,$B$5,31),祝日!$B16>=DATE(初期画面!$C$3,$B$5,1)),祝日!C16,\"\")","v":""}]
[null,9,null,null,null,{"$f":"IF($D5=\"\",\"\",VLOOKUP($D5,初期画面!$M$4:$Q$20,2))","v":""},{"$f":"IF($D5=\"\",\"\",VLOOKUP($D5,初期画面!$M$4:$Q$20,3))","v":""},{"$f":"IF($D5=\"\",\"\",VLOOKUP($D5,初期画面!$M$4:$Q$20,4))","v":""},{"$f":"IF($D5=\"\",\"\",VLOOKUP($D5,初期画面!$M$4:$Q$20,5))","v":""}]
[null,null,null,null,null,{"$f":"IF($D6=\"\",\"\",VLOOKUP($D6,初期画面!$M$4:$Q$20,2))","v":""},{"$f":"IF($D6=\"\",\"\",VLOOKUP($D6,初期画面!$M$4:$Q$20,3))","v":""},{"$f":"IF($D6=\"\",\"\",VLOOKUP($D6,初期画面!$M$4:$Q$20,4))","v":""},{"$f":"IF($D6=\"\",\"\",VLOOKUP($D6,初期画面!$M$4:$Q$20,5))","v":""}]
[null,null,null,null,null,{"$f":"IF($D7=\"\",\"\",VLOOKUP($D7,初期画面!$M$4:$Q$20,2))","v":""},{"$f":"IF($D7=\"\",\"\",VLOOKUP($D7,初期画面!$M$4:$Q$20,3))","v":""},{"$f":"IF($D7=\"\",\"\",VLOOKUP($D7,初期画面!$M$4:$Q$20,4))","v":""},{"$f":"IF($D7=\"\",\"\",VLOOKUP($D7,初期画面!$M$4:$Q$20,5))","v":""}]
[null,null,null,null,null,{"$f":"IF($D8=\"\",\"\",VLOOKUP($D8,初期画面!$M$4:$Q$20,2))","v":""},{"$f":"IF($D8=\"\",\"\",VLOOKUP($D8,初期画面!$M$4:$Q$20,3))","v":""},{"$f":"IF($D8=\"\",\"\",VLOOKUP($D8,初期画面!$M$4:$Q$20,4))","v":""},{"$f":"IF($D8=\"\",\"\",VLOOKUP($D8,初期画面!$M$4:$Q$20,5))","v":""}]
[null,null,null,null,null,{"$f":"IF($D9=\"\",\"\",VLOOKUP($D9,初期画面!$M$4:$Q$20,2))","v":""},{"$f":"IF($D9=\"\",\"\",VLOOKUP($D9,初期画面!$M$4:$Q$20,3))","v":""},{"$f":"IF($D9=\"\",\"\",VLOOKUP($D9,初期画面!$M$4:$Q$20,4))","v":""},{"$f":"IF($D9=\"\",\"\",VLOOKUP($D9,初期画面!$M$4:$Q$20,5))","v":""}]
[null,null,"日","曜",null,"午前",null,"午後",null,"夜間","相談室",null,null,null,{"$f":"初期画面!M3","v":"番号"},{"$f":"初期画面!N3","v":"使用団体名"}]
[null,null,1,{"$f":"IF(C11=\"\",\"\",WEEKDAY(DATE('４月'!$B$4,$B$5,C11)))","v":3},{"$f":"IF(C11=\"\",\"\",DATE($B$4,$B$5,$C11))","v":44075},null,null,null,null,null,null,null,null,null,{"$f":"初期画面!M4","v":1},{"$f":"初期画面!N4","v":"都留市学童保育連絡協議会"}]
[null,null,2,{"$f":"IF(C12=\"\",\"\",WEEKDAY(DATE('４月'!$B$4,$B$5,C12)))","v":4},{"$f":"IF(C12=\"\",\"\",DATE($B$4,$B$5,$C12))","v":44076},null,null,null,null,null,null,null,null,null,{"$f":"初期画面!M5","v":2},{"$f":"初期画面!N5","v":"つる山友会"}]
[null,null,3,{"$f":"IF(C13=\"\",\"\",WEEKDAY(DATE('４月'!$B$4,$B$5,C13)))","v":5},44077,null,null,null,null,null,null,null,null,null,{"$f":"初期画面!M6","v":3},{"$f":"初期画面!N6","v":"ソロプチミスト山梨-芙蓉"}]
[null,null,4,{"$f":"IF(C14=\"\",\"\",WEEKDAY(DATE('４月'!$B$4,$B$5,C14)))","v":6},44078,null,null,null,null,null,null,null,null,null,{"$f":"初期画面!M7","v":4},{"$f":"初期画面!N7","v":"都留市養護教員会"}]
[null,null,5,{"$f":"IF(C15=\"\",\"\",WEEKDAY(DATE('４月'!$B$4,$B$5,C15)))","v":7},44079,null,null,null,null,null,null,null,null,null,{"$f":"初期画面!M8","v":5},{"$f":"初期画面!N8","v":"都留市合唱連盟"}]
[null,null,6,{"$f":"IF(C16=\"\",\"\",WEEKDAY(DATE('４月'!$B$4,$B$5,C16)))","v":1},44080,null,null,null,null,null,null,null,null,null,{"$f":"初期画面!M9","v":6},{"$f":"初期画面!N9","v":"退職公務員連盟"}]
[null,null,7,{"$f":"IF(C17=\"\",\"\",WEEKDAY(DATE('４月'!$B$4,$B$5,C17)))","v":2},44081,null,null,null,null,null,null,null,null,null,{"$f":"初期画面!M10","v":7},{"$f":"初期画面!N10","v":"教育会"}]
[null,null,8,{"$f":"IF(C18=\"\",\"\",WEEKDAY(DATE('４月'!$B$4,$B$5,C18)))","v":3},44082,null,null,"13:30~15:30ソロプチミスト山梨",null,null,null,null,null,null,{"$f":"初期画面!M11","v":8},{"$f":"初期画面!N11","v":"都留市学校事務共同実施担当者会"}]
[null,null,9,{"$f":"IF(C19=\"\",\"\",WEEKDAY(DATE('４月'!$B$4,$B$5,C19)))","v":4},44083,null,null,null,null,"18:30~21:00山友会",null,null,null,null,{"$f":"初期画面!M12","v":9},{"$f":"初期画面!N12","v":"教頭会"}]
[null,null,10,{"$f":"IF(C20=\"\",\"\",WEEKDAY(DATE('４月'!$B$4,$B$5,C20)))","v":5},44084,null,null,null,null,null,null,null,null,null,{"$f":"初期画面!M13","v":10},{"$f":"初期画面!N13","v":0}]
[null,null,11,{"$f":"IF(C21=\"\",\"\",WEEKDAY(DATE('４月'!$B$4,$B$5,C21)))","v":6},44085,null,null,null,null,null,null,null,null,null,{"$f":"初期画面!M14","v":11},{"$f":"初期画面!N14","v":0}]
[null,null,12,{"$f":"IF(C22=\"\",\"\",WEEKDAY(DATE('４月'!$B$4,$B$5,C22)))","v":7},44086,null,null,null,null,null,null,null,null,null,{"$f":"初期画面!M15","v":12},{"$f":"初期画面!N15","v":0}]
[null,null,13,{"$f":"IF(C23=\"\",\"\",WEEKDAY(DATE('４月'!$B$4,$B$5,C23)))","v":1},44087,null,null,null,null,null,null,null,null,null,{"$f":"初期画面!M16","v":13},{"$f":"初期画面!N16","v":0}]
[null,null,14,{"$f":"IF(C24=\"\",\"\",WEEKDAY(DATE('４月'!$B$4,$B$5,C24)))","v":2},44088,null,null,null,null,null,null,null,null,null,{"$f":"初期画面!M17","v":14},{"$f":"初期画面!N17","v":0}]
[null,null,15,{"$f":"IF(C25=\"\",\"\",WEEKDAY(DATE('４月'!$B$4,$B$5,C25)))","v":3},44089,null,null,null,null,null,null,null,null,null,{"$f":"初期画面!M18","v":15},{"$f":"初期画面!N18","v":0}]
[null,null,16,{"$f":"IF(C26=\"\",\"\",WEEKDAY(DATE('４月'!$B$4,$B$5,C26)))","v":4},44090,null,null,null,null,null,null,null,null,null,{"$f":"初期画面!M19","v":16},{"$f":"初期画面!N19","v":0}]
[null,null,17,{"$f":"IF(C27=\"\",\"\",WEEKDAY(DATE('４月'!$B$4,$B$5,C27)))","v":5},44091,null,null,null,null,null,null,null,null,null,{"$f":"初期画面!M20","v":17},{"$f":"初期画面!N20","v":0}]
[null,null,18,{"$f":"IF(C28=\"\",\"\",WEEKDAY(DATE('４月'!$B$4,$B$5,C28)))","v":6},44092]
[null,null,19,{"$f":"IF(C29=\"\",\"\",WEEKDAY(DATE('４月'!$B$4,$B$5,C29)))","v":7},44093]
[null,null,20,{"$f":"IF(C30=\"\",\"\",WEEKDAY(DATE('４月'!$B$4,$B$5,C30)))","v":1},44094]
[null,null,21,{"$f":"IF(C31=\"\",\"\",WEEKDAY(DATE('４月'!$B$4,$B$5,C31)))","v":2},44095]
[null,null,22,{"$f":"IF(C32=\"\",\"\",WEEKDAY(DATE('４月'!$B$4,$B$5,C32)))","v":3},44096]
[null,null,23,{"$f":"IF(C33=\"\",\"\",WEEKDAY(DATE('４月'!$B$4,$B$5,C33)))","v":4},44097]
[null,null,24,{"$f":"IF(C34=\"\",\"\",WEEKDAY(DATE('４月'!$B$4,$B$5,C34)))","v":5},44098]
[null,null,25,{"$f":"IF(C35=\"\",\"\",WEEKDAY(DATE('４月'!$B$4,$B$5,C35)))","v":6},44099]
[null,null,26,{"$f":"IF(C36=\"\",\"\",WEEKDAY(DATE('４月'!$B$4,$B$5,C36)))","v":7},44100]
[null,null,27,{"$f":"IF(C37=\"\",\"\",WEEKDAY(DATE('４月'!$B$4,$B$5,C37)))","v":1},44101]
[null,null,28,{"$f":"IF(C38=\"\",\"\",WEEKDAY(DATE('４月'!$B$4,$B$5,C38)))","v":2},44102]
[null,null,29,{"$f":"IF(C39=\"\",\"\",WEEKDAY(DATE('４月'!$B$4,$B$5,C39)))","v":3},44103]
[null,null,30,{"$f":"IF(C40=\"\",\"\",WEEKDAY(DATE('４月'!$B$4,$B$5,C40)))","v":4},44104]
[null,null,null,{"$f":"IF(C41=\"\",\"\",WEEKDAY(DATE('４月'!$B$4,$B$5,C41)))","v":""},""]
[null,null,"当月合計",null,null,null,{"$f":"COUNTA(G11:G41)+COUNTA(F11:F41)","v":0},null,{"$f":"COUNTA(I11:I41)+COUNTA(H11:H41)","v":1},{"$f":"COUNTA(J11:J41)","v":1},{"$f":"COUNTA(K11:K41)","v":0}]
[null,null,"累計",null,null,null,{"$f":"'８月'!G43+G42","v":3},null,{"$f":"'８月'!I43+I42","v":11},{"$f":"'８月'!J43+J42","v":5},{"$f":"'８月'!K43+K42","v":0}]
[null,null,"貸出回数総累計（相談室を除く）",null,null,null,{"$f":"SUM(G43,I43,J43)","v":19}]

{"sheet":"１０月","index":7,"n_rows":44,"n_cols":16,"rows_kept":44,"cut":false,"hidden":false,"merged":[[43,2,43,5],[0,2,0,9],[3,1,3,2],[4,1,4,2],[9,5,9,6],[9,7,9,8],[41,2,41,3],[42,2,42,3],[23,9,23,10]]}
[null,null,"会議室貸出使用予定表"]
[null,null,null,"番号",null,"使用団体連絡先","代表者","住所","電話"]
[null,null,null,2,null,{"$f":"IF($D3=\"\",\"\",VLOOKUP($D3,初期画面!$M$4:$Q$20,2))","v":"つる山友会"},{"$f":"IF($D3=\"\",\"\",VLOOKUP($D3,初期画面!$M$4:$Q$20,3))","v":"鈴木秀一"},{"$f":"IF($D3=\"\",\"\",VLOOKUP($D3,初期画面!$M$4:$Q$20,4))","v":"都留市上谷4-10-9"},{"$f":"IF($D3=\"\",\"\",VLOOKUP($D3,初期画面!$M$4:$Q$20,5))","v":"090-4129-9578"},null,null,null,{"$f":"IF(AND(祝日!$B17<=DATE(初期画面!$C$3,$B$5,31),祝日!$B17>=DATE(初期画面!$C$3,$B$5,1)),祝日!B17,\"\")","v":"2020-10-12"},{"$f":"IF(AND(祝日!$B17<=DATE(初期画面!$C$3,$B$5,31),祝日!$B17>=DATE(初期画面!$C$3,$B$5,1)),祝日!C17,\"\")","v":"体育の日"}]
[null,{"$f":"'４月'!B4","v":2020},null,null,null,{"$f":"IF($D4=\"\",\"\",VLOOKUP($D4,初期画面!$M$4:$Q$20,2))","v":""},{"$f":"IF($D4=\"\",\"\",VLOOKUP($D4,初期画面!$M$4:$Q$20,3))","v":""},{"$f":"IF($D4=\"\",\"\",VLOOKUP($D4,初期画面!$M$4:$Q$20,4))","v":""},{"$f":"IF($D4=\"\",\"\",VLOOKUP($D4,初期画面!$M$4:$Q$20,5))","v":""},null,null,null,{"$f":"IF(AND(祝日!$B18<=DATE(初期画面!$C$3,$B$5,31),祝日!$B18>=DATE(初期画面!$C$3,$B$5,1)),祝日!B18,\"\")","v":""},{"$f":"IF(AND(祝日!$B18<=DATE(初期画面!$C$3,$B$5,31),祝日!$B18>=DATE(初期画面!$C$3,$B$5,1)),祝日!C18,\"\")","v":""}]
[null,10,null,null,null,{"$f":"IF($D5=\"\",\"\",VLOOKUP($D5,初期画面!$M$4:$Q$20,2))","v":""},{"$f":"IF($D5=\"\",\"\",VLOOKUP($D5,初期画面!$M$4:$Q$20,3))","v":""},{"$f":"IF($D5=\"\",\"\",VLOOKUP($D5,初期画面!$M$4:$Q$20,4))","v":""},{"$f":"IF($D5=\"\",\"\",VLOOKUP($D5,初期画面!$M$4:$Q$20,5))","v":""}]
[null,null,null,null,null,{"$f":"IF($D6=\"\",\"\",VLOOKUP($D6,初期画面!$M$4:$Q$20,2))","v":""},{"$f":"IF($D6=\"\",\"\",VLOOKUP($D6,初期画面!$M$4:$Q$20,3))","v":""},{"$f":"IF($D6=\"\",\"\",VLOOKUP($D6,初期画面!$M$4:$Q$20,4))","v":""},{"$f":"IF($D6=\"\",\"\",VLOOKUP($D6,初期画面!$M$4:$Q$20,5))","v":""}]
[null,null,null,null,null,{"$f":"IF($D7=\"\",\"\",VLOOKUP($D7,初期画面!$M$4:$Q$20,2))","v":""},{"$f":"IF($D7=\"\",\"\",VLOOKUP($D7,初期画面!$M$4:$Q$20,3))","v":""},{"$f":"IF($D7=\"\",\"\",VLOOKUP($D7,初期画面!$M$4:$Q$20,4))","v":""},{"$f":"IF($D7=\"\",\"\",VLOOKUP($D7,初期画面!$M$4:$Q$20,5))","v":""}]
[null,null,null,null,null,{"$f":"IF($D8=\"\",\"\",VLOOKUP($D8,初期画面!$M$4:$Q$20,2))","v":""},{"$f":"IF($D8=\"\",\"\",VLOOKUP($D8,初期画面!$M$4:$Q$20,3))","v":""},{"$f":"IF($D8=\"\",\"\",VLOOKUP($D8,初期画面!$M$4:$Q$20,4))","v":""},{"$f":"IF($D8=\"\",\"\",VLOOKUP($D8,初期画面!$M$4:$Q$20,5))","v":""}]
[null,null,null,null,null,{"$f":"IF($D9=\"\",\"\",VLOOKUP($D9,初期画面!$M$4:$Q$20,2))","v":""},{"$f":"IF($D9=\"\",\"\",VLOOKUP($D9,初期画面!$M$4:$Q$20,3))","v":""},{"$f":"IF($D9=\"\",\"\",VLOOKUP($D9,初期画面!$M$4:$Q$20,4))","v":""},{"$f":"IF($D9=\"\",\"\",VLOOKUP($D9,初期画面!$M$4:$Q$20,5))","v":""}]
[null,null,"日","曜",null,"午前",null,"午後",null,"夜間","相談室",null,null,null,{"$f":"初期画面!M3","v":"番号"},{"$f":"初期画面!N3","v":"使用団体名"}]
[null,null,1,{"$f":"IF(C11=\"\",\"\",WEEKDAY(DATE('４月'!$B$4,$B$5,C11)))","v":5},{"$f":"IF(C11=\"\",\"\",DATE($B$4,$B$5,$C11))","v":44105},null,null,null,null,null,null,null,null,null,{"$f":"初期画面!M4","v":1},{"$f":"初期画面!N4","v":"都留市学童保育連絡協議会"}]
[null,null,2,{"$f":"IF(C12=\"\",\"\",WEEKDAY(DATE('４月'!$B$4,$B$5,C12)))","v":6},{"$f":"IF(C12=\"\",\"\",DATE($B$4,$B$5,$C12))","v":44106},null,null,null,null,null,null,null,null,null,{"$f":"初期画面!M5","v":2},{"$f":"初期画面!N5","v":"つる山友会"}]
[null,null,3,{"$f":"IF(C13=\"\",\"\",WEEKDAY(DATE('４月'!$B$4,$B$5,C13)))","v":7},44107,null,null,null,null,null,null,null,null,null,{"$f":"初期画面!M6","v":3},{"$f":"初期画面!N6","v":"ソロプチミスト山梨-芙蓉"}]
[null,null,4,{"$f":"IF(C14=\"\",\"\",WEEKDAY(DATE('４月'!$B$4,$B$5,C14)))","v":1},44108,null,null,null,null,null,null,null,null,null,{"$f":"初期画面!M7","v":4},{"$f":"初期画面!N7","v":"都留市養護教員会"}]
[null,null,5,{"$f":"IF(C15=\"\",\"\",WEEKDAY(DATE('４月'!$B$4,$B$5,C15)))","v":2},44109,null,null,null,null,null,null,null,null,null,{"$f":"初期画面!M8","v":5},{"$f":"初期画面!N8","v":"都留市合唱連盟"}]
[null,null,6,{"$f":"IF(C16=\"\",\"\",WEEKDAY(DATE('４月'!$B$4,$B$5,C16)))","v":3},44110,null,null,null,null,null,null,null,null,null,{"$f":"初期画面!M9","v":6},{"$f":"初期画面!N9","v":"退職公務員連盟"}]
[null,null,7,{"$f":"IF(C17=\"\",\"\",WEEKDAY(DATE('４月'!$B$4,$B$5,C17)))","v":4},44111,null,null,null,null,null,null,null,null,null,{"$f":"初期画面!M10","v":7},{"$f":"初期画面!N10","v":"教育会"}]
[null,null,8,{"$f":"IF(C18=\"\",\"\",WEEKDAY(DATE('４月'!$B$4,$B$5,C18)))","v":5},44112,null,null,null,null,null,null,null,null,null,{"$f":"初期画面!M11","v":8},{"$f":"初期画面!N11","v":"都留市学校事務共同実施担当者会"}]
[null,null,9,{"$f":"IF(C19=\"\",\"\",WEEKDAY(DATE('４月'!$B$4,$B$5,C19)))","v":6},44113,null,null,null,null,null,null,null,null,null,{"$f":"初期画面!M12","v":9},{"$f":"初期画面!N12","v":"教頭会"}]
[null,null,10,{"$f":"IF(C20=\"\",\"\",WEEKDAY(DATE('４月'!$B$4,$B$5,C20)))","v":7},44114,null,null,null,null,null,null,null,null,null,{"$f":"初期画面!M13","v":10},{"$f":"初期画面!N13","v":0}]
[null,null,11,{"$f":"IF(C21=\"\",\"\",WEEKDAY(DATE('４月'!$B$4,$B$5,C21)))","v":1},44115,null,null,null,null,null,null,null,null,null,{"$f":"初期画面!M14","v":11},{"$f":"初期画面!N14","v":0}]
[null,null,12,{"$f":"IF(C22=\"\",\"\",WEEKDAY(DATE('４月'!$B$4,$B$5,C22)))","v":2},44116,null,null,null,null,null,null,null,null,null,{"$f":"初期画面!M15","v":12},{"$f":"初期画面!N15","v":0}]
[null,null,13,{"$f":"IF(C23=\"\",\"\",WEEKDAY(DATE('４月'!$B$4,$B$5,C23)))","v":3},44117,null,null,"13:30~15:30ソロプチミスト山梨",null,null,null,null,null,null,{"$f":"初期画面!M16","v":13},{"$f":"初期画面!N16","v":0}]
[null,null,14,{"$f":"IF(C24=\"\",\"\",WEEKDAY(DATE('４月'!$B$4,$B$5,C24)))","v":4},44118,null,null,null,null,"18:30~21:00山友会",null,null,null,null,{"$f":"初期画面!M17","v":14},{"$f":"初期画面!N17","v":0}]
[null,null,15,{"$f":"IF(C25=\"\",\"\",WEEKDAY(DATE('４月'!$B$4,$B$5,C25)))","v":5},44119,null,null,null,null,null,null,null,null,null,{"$f":"初期画面!M18","v":15},{"$f":"初期画面!N18","v":0}]
[null,null,16,{"$f":"IF(C26=\"\",\"\",WEEKDAY(DATE('４月'!$B$4,$B$5,C26)))","v":6},44120,null,null,null,null,null,null,null,null,null,{"$f":"初期画面!M19","v":16},{"$f":"初期画面!N19","v":0}]
[null,null,17,{"$f":"IF(C27=\"\",\"\",WEEKDAY(DATE('４月'!$B$4,$B$5,C27)))","v":7},44121,null,null,null,null,null,null,null,null,null,{"$f":"初期画面!M20","v":17},{"$f":"初期画面!N20","v":0}]
[null,null,18,{"$f":"IF(C28=\"\",\"\",WEEKDAY(DATE('４月'!$B$4,$B$5,C28)))","v":1},44122]
[null,null,19,{"$f":"IF(C29=\"\",\"\",WEEKDAY(DATE('４月'!$B$4,$B$5,C29)))","v":2},44123]
[null,null,20,{"$f":"IF(C30=\"\",\"\",WEEKDAY(DATE('４月'!$B$4,$B$5,C30)))","v":3},44124]
[null,null,21,{"$f":"IF(C31=\"\",\"\",WEEKDAY(DATE('４月'!$B$4,$B$5,C31)))","v":4},44125]
[null,null,22,{"$f":"IF(C32=\"\",\"\",WEEKDAY(DATE('４月'!$B$4,$B$5,C32)))","v":5},44126]
[null,null,23,{"$f":"IF(C33=\"\",\"\",WEEKDAY(DATE('４月'!$B$4,$B$5,C33)))","v":6},44127]
[null,null,24,{"$f":"IF(C34=\"\",\"\",WEEKDAY(DATE('４月'!$B$4,$B$5,C34)))","v":7},44128]
[null,null,25,{"$f":"IF(C35=\"\",\"\",WEEKDAY(DATE('４月'!$B$4,$B$5,C35)))","v":1},44129]
[null,null,26,{"$f":"IF(C36=\"\",\"\",WEEKDAY(DATE('４月'!$B$4,$B$5,C36)))","v":2},44130]
[null,null,27,{"$f":"IF(C37=\"\",\"\",WEEKDAY(DATE('４月'!$B$4,$B$5,C37)))","v":3},44131]
[null,null,28,{"$f":"IF(C38=\"\",\"\",WEEKDAY(DATE('４月'!$B$4,$B$5,C38)))","v":4},44132]
[null,null,29,{"$f":"IF(C39=\"\",\"\",WEEKDAY(DATE('４月'!$B$4,$B$5,C39)))","v":5},44133]
[null,null,30,{"$f":"IF(C40=\"\",\"\",WEEKDAY(DATE('４月'!$B$4,$B$5,C40)))","v":6},44134]
[null,null,31,{"$f":"IF(C41=\"\",\"\",WEEKDAY(DATE('４月'!$B$4,$B$5,C41)))","v":7},44135]
[null,null,"当月合計",null,null,null,{"$f":"COUNTA(G11:G41)+COUNTA(F11:F41)","v":0},null,{"$f":"COUNTA(I11:I41)+COUNTA(H11:H41)","v":1},{"$f":"COUNTA(J11:J41)","v":1},{"$f":"COUNTA(K11:K41)","v":0}]
[null,null,"累計",null,null,null,{"$f":"'９月'!G43+G42","v":3},null,{"$f":"'９月'!I43+I42","v":12},{"$f":"'９月'!J43+J42","v":6},{"$f":"'９月'!K43+K42","v":0}]
[null,null,"貸出回数総累計（相談室を除く）",null,null,null,{"$f":"SUM(G43,I43,J43)","v":21}]

{"sheet":"１１月","index":8,"n_rows":44,"n_cols":16,"rows_kept":44,"cut":false,"hidden":false,"merged":[[43,2,43,5],[0,2,0,9],[3,1,3,2],[4,1,4,2],[9,5,9,6],[9,7,9,8],[41,2,41,3],[42,2,42,3],[20,9,20,10]]}
[null,null,"会議室貸出使用予定表"]
[null,null,null,"番号",null,"使用団体連絡先","代表者","住所","電話"]
[null,null,null,2,null,{"$f":"IF($D3=\"\",\"\",VLOOKUP($D3,初期画面!$M$4:$Q$20,2))","v":"つる山友会"},{"$f":"IF($D3=\"\",\"\",VLOOKUP($D3,初期画面!$M$4:$Q$20,3))","v":"鈴木秀一"},{"$f":"IF($D3=\"\",\"\",VLOOKUP($D3,初期画面!$M$4:$Q$20,4))","v":"都留市上谷4-10-9"},{"$f":"IF($D3=\"\",\"\",VLOOKUP($D3,初期画面!$M$4:$Q$20,5))","v":"090-4129-9578"},null,null,null,{"$f":"IF(AND(祝日!$B19<=DATE(初期画面!$C$3,$B$5,31),祝日!$B19>=DATE(初期画面!$C$3,$B$5,1)),祝日!B19,\"\")","v":"2020-11-03"},{"$f":"IF(AND(祝日!$B19<=DATE(初期画面!$C$3,$B$5,31),祝日!$B19>=DATE(初期画面!$C$3,$B$5,1)),祝日!C19,\"\")","v":"文化の日"}]
[null,{"$f":"'４月'!B4","v":2020},null,null,null,{"$f":"IF($D4=\"\",\"\",VLOOKUP($D4,初期画面!$M$4:$Q$20,2))","v":""},{"$f":"IF($D4=\"\",\"\",VLOOKUP($D4,初期画面!$M$4:$Q$20,3))","v":""},{"$f":"IF($D4=\"\",\"\",VLOOKUP($D4,初期画面!$M$4:$Q$20,4))","v":""},{"$f":"IF($D4=\"\",\"\",VLOOKUP($D4,初期画面!$M$4:$Q$20,5))","v":""},null,null,null,{"$f":"IF(AND(祝日!$B20<=DATE(初期画面!$C$3,$B$5,31),祝日!$B20>=DATE(初期画面!$C$3,$B$5,1)),祝日!B20,\"\")","v":"2020-11-20"},{"$f":"IF(AND(祝日!$B20<=DATE(初期画面!$C$3,$B$5,31),祝日!$B20>=DATE(初期画面!$C$3,$B$5,1)),祝日!C20,\"\")","v":"県民の日"}]
[null,11,null,null,null,{"$f":"IF($D5=\"\",\"\",VLOOKUP($D5,初期画面!$M$4:$Q$20,2))","v":""},{"$f":"IF($D5=\"\",\"\",VLOOKUP($D5,初期画面!$M$4:$Q$20,3))","v":""},{"$f":"IF($D5=\"\",\"\",VLOOKUP($D5,初期画面!$M$4:$Q$20,4))","v":""},{"$f":"IF($D5=\"\",\"\",VLOOKUP($D5,初期画面!$M$4:$Q$20,5))","v":""},null,null,null,{"$f":"IF(AND(祝日!$B21<=DATE(初期画面!$C$3,$B$5,31),祝日!$B21>=DATE(初期画面!$C$3,$B$5,1)),祝日!B21,\"\")","v":"2020-11-23"},{"$f":"IF(AND(祝日!$B21<=DATE(初期画面!$C$3,$B$5,31),祝日!$B21>=DATE(初期画面!$C$3,$B$5,1)),祝日!C21,\"\")","v":"勤労感謝の日"}]
[null,null,null,null,null,{"$f":"IF($D6=\"\",\"\",VLOOKUP($D6,初期画面!$M$4:$Q$20,2))","v":""},{"$f":"IF($D6=\"\",\"\",VLOOKUP($D6,初期画面!$M$4:$Q$20,3))","v":""},{"$f":"IF($D6=\"\",\"\",VLOOKUP($D6,初期画面!$M$4:$Q$20,4))","v":""},{"$f":"IF($D6=\"\",\"\",VLOOKUP($D6,初期画面!$M$4:$Q$20,5))","v":""},null,null,null,{"$f":"IF(AND(祝日!$B22<=DATE(初期画面!$C$3,$B$5,31),祝日!$B22>=DATE(初期画面!$C$3,$B$5,1)),祝日!B22,\"\")","v":""},{"$f":"IF(AND(祝日!$B22<=DATE(初期画面!$C$3,$B$5,31),祝日!$B22>=DATE(初期画面!$C$3,$B$5,1)),祝日!C22,\"\")","v":""}]
[null,null,null,null,null,{"$f":"IF($D7=\"\",\"\",VLOOKUP($D7,初期画面!$M$4:$Q$20,2))","v":""},{"$f":"IF($D7=\"\",\"\",VLOOKUP($D7,初期画面!$M$4:$Q$20,3))","v":""},{"$f":"IF($D7=\"\",\"\",VLOOKUP($D7,初期画面!$M$4:$Q$20,4))","v":""},{"$f":"IF($D7=\"\",\"\",VLOOKUP($D7,初期画面!$M$4:$Q$20,5))","v":""}]
[null,null,null,null,null,{"$f":"IF($D8=\"\",\"\",VLOOKUP($D8,初期画面!$M$4:$Q$20,2))","v":""},{"$f":"IF($D8=\"\",\"\",VLOOKUP($D8,初期画面!$M$4:$Q$20,3))","v":""},{"$f":"IF($D8=\"\",\"\",VLOOKUP($D8,初期画面!$M$4:$Q$20,4))","v":""},{"$f":"IF($D8=\"\",\"\",VLOOKUP($D8,初期画面!$M$4:$Q$20,5))","v":""}]
[null,null,null,null,null,{"$f":"IF($D9=\"\",\"\",VLOOKUP($D9,初期画面!$M$4:$Q$20,2))","v":""},{"$f":"IF($D9=\"\",\"\",VLOOKUP($D9,初期画面!$M$4:$Q$20,3))","v":""},{"$f":"IF($D9=\"\",\"\",VLOOKUP($D9,初期画面!$M$4:$Q$20,4))","v":""},{"$f":"IF($D9=\"\",\"\",VLOOKUP($D9,初期画面!$M$4:$Q$20,5))","v":""}]
[null,null,"日","曜",null,"午前",null,"午後",null,"夜間","相談室",null,null,null,{"$f":"初期画面!M3","v":"番号"},{"$f":"初期画面!N3","v":"使用団体名"}]
[null,null,1,{"$f":"IF(C11=\"\",\"\",WEEKDAY(DATE('４月'!$B$4,$B$5,C11)))","v":1},{"$f":"IF(C11=\"\",\"\",DATE($B$4,$B$5,$C11))","v":44136},null,null,null,null,null,null,null,null,null,{"$f":"初期画面!M4","v":1},{"$f":"初期画面!N4","v":"都留市学童保育連絡協議会"}]
[null,null,2,{"$f":"IF(C12=\"\",\"\",WEEKDAY(DATE('４月'!$B$4,$B$5,C12)))","v":2},{"$f":"IF(C12=\"\",\"\",DATE($B$4,$B$5,$C12))","v":44137},null,null,null,null,null,null,null,null,null,{"$f":"初期画面!M5","v":2},{"$f":"初期画面!N5","v":"つる山友会"}]
[null,null,3,{"$f":"IF(C13=\"\",\"\",WEEKDAY(DATE('４月'!$B$4,$B$5,C13)))","v":3},44138,null,null,null,null,null,null,null,null,null,{"$f":"初期画面!M6","v":3},{"$f":"初期画面!N6","v":"ソロプチミスト山梨-芙蓉"}]
[null,null,4,{"$f":"IF(C14=\"\",\"\",WEEKDAY(DATE('４月'!$B$4,$B$5,C14)))","v":4},44139,null,null,null,null,null,null,null,null,null,{"$f":"初期画面!M7","v":4},{"$f":"初期画面!N7","v":"都留市養護教員会"}]
[null,null,5,{"$f":"IF(C15=\"\",\"\",WEEKDAY(DATE('４月'!$B$4,$B$5,C15)))","v":5},44140,null,null,null,null,null,null,null,null,null,{"$f":"初期画面!M8","v":5},{"$f":"初期画面!N8","v":"都留市合唱連盟"}]
[null,null,6,{"$f":"IF(C16=\"\",\"\",WEEKDAY(DATE('４月'!$B$4,$B$5,C16)))","v":6},44141,null,null,null,null,null,null,null,null,null,{"$f":"初期画面!M9","v":6},{"$f":"初期画面!N9","v":"退職公務員連盟"}]
[null,null,7,{"$f":"IF(C17=\"\",\"\",WEEKDAY(DATE('４月'!$B$4,$B$5,C17)))","v":7},44142,null,null,null,null,null,null,null,null,null,{"$f":"初期画面!M10","v":7},{"$f":"初期画面!N10","v":"教育会"}]
[null,null,8,{"$f":"IF(C18=\"\",\"\",WEEKDAY(DATE('４月'!$B$4,$B$5,C18)))","v":1},44143,null,null,null,null,null,null,null,null,null,{"$f":"初期画面!M11","v":8},{"$f":"初期画面!N11","v":"都留市学校事務共同実施担当者会"}]
[null,null,9,{"$f":"IF(C19=\"\",\"\",WEEKDAY(DATE('４月'!$B$4,$B$5,C19)))","v":2},44144,null,null,null,null,null,null,null,null,null,{"$f":"初期画面!M12","v":9},{"$f":"初期画面!N12","v":"教頭会"}]
[null,null,10,{"$f":"IF(C20=\"\",\"\",WEEKDAY(DATE('４月'!$B$4,$B$5,C20)))","v":3},44145,null,null,"13:30~15:30ソロプチミスト山梨",null,null,null,null,null,null,{"$f":"初期画面!M13","v":10},{"$f":"初期画面!N13","v":0}]
[null,null,11,{"$f":"IF(C21=\"\",\"\",WEEKDAY(DATE('４月'!$B$4,$B$5,C21)))","v":4},44146,null,null,null,null,"18:30~21:00山友会",null,null,null,null,{"$f":"初期画面!M14","v":11},{"$f":"初期画面!N14","v":0}]
[null,null,12,{"$f":"IF(C22=\"\",\"\",WEEKDAY(DATE('４月'!$B$4,$B$5,C22)))","v":5},44147,null,null,null,null,null,null,null,null,null,{"$f":"初期画面!M15","v":12},{"$f":"初期画面!N15","v":0}]
[null,null,13,{"$f":"IF(C23=\"\",\"\",WEEKDAY(DATE('４月'!$B$4,$B$5,C23)))","v":6},44148,null,null,null,null,null,null,null,null,null,{"$f":"初期画面!M16","v":13},{"$f":"初期画面!N16","v":0}]
[null,null,14,{"$f":"IF(C24=\"\",\"\",WEEKDAY(DATE('４月'!$B$4,$B$5,C24)))","v":7},44149,null,null,null,null,null,null,null,null,null,{"$f":"初期画面!M17","v":14},{"$f":"初期画面!N17","v":0}]
[null,null,15,{"$f":"IF(C25=\"\",\"\",WEEKDAY(DATE('４月'!$B$4,$B$5,C25)))","v":1},44150,null,null,null,null,null,null,null,null,null,{"$f":"初期画面!M18","v":15},{"$f":"初期画面!N18","v":0}]
[null,null,16,{"$f":"IF(C26=\"\",\"\",WEEKDAY(DATE('４月'!$B$4,$B$5,C26)))","v":2},44151,null,null,null,null,null,null,null,null,null,{"$f":"初期画面!M19","v":16},{"$f":"初期画面!N19","v":0}]
[null,null,17,{"$f":"IF(C27=\"\",\"\",WEEKDAY(DATE('４月'!$B$4,$B$5,C27)))","v":3},44152,null,null,null,null,null,null,null,null,null,{"$f":"初期画面!M20","v":17},{"$f":"初期画面!N20","v":0}]
[null,null,18,{"$f":"IF(C28=\"\",\"\",WEEKDAY(DATE('４月'!$B$4,$B$5,C28)))","v":4},44153]
[null,null,19,{"$f":"IF(C29=\"\",\"\",WEEKDAY(DATE('４月'!$B$4,$B$5,C29)))","v":5},44154]
[null,null,20,{"$f":"IF(C30=\"\",\"\",WEEKDAY(DATE('４月'!$B$4,$B$5,C30)))","v":6},44155]
[null,null,21,{"$f":"IF(C31=\"\",\"\",WEEKDAY(DATE('４月'!$B$4,$B$5,C31)))","v":7},44156]
[null,null,22,{"$f":"IF(C32=\"\",\"\",WEEKDAY(DATE('４月'!$B$4,$B$5,C32)))","v":1},44157]
[null,null,23,{"$f":"IF(C33=\"\",\"\",WEEKDAY(DATE('４月'!$B$4,$B$5,C33)))","v":2},44158]
[null,null,24,{"$f":"IF(C34=\"\",\"\",WEEKDAY(DATE('４月'!$B$4,$B$5,C34)))","v":3},44159]
[null,null,25,{"$f":"IF(C35=\"\",\"\",WEEKDAY(DATE('４月'!$B$4,$B$5,C35)))","v":4},44160]
[null,null,26,{"$f":"IF(C36=\"\",\"\",WEEKDAY(DATE('４月'!$B$4,$B$5,C36)))","v":5},44161]
[null,null,27,{"$f":"IF(C37=\"\",\"\",WEEKDAY(DATE('４月'!$B$4,$B$5,C37)))","v":6},44162]
[null,null,28,{"$f":"IF(C38=\"\",\"\",WEEKDAY(DATE('４月'!$B$4,$B$5,C38)))","v":7},44163]
[null,null,29,{"$f":"IF(C39=\"\",\"\",WEEKDAY(DATE('４月'!$B$4,$B$5,C39)))","v":1},44164]
[null,null,30,{"$f":"IF(C40=\"\",\"\",WEEKDAY(DATE('４月'!$B$4,$B$5,C40)))","v":2},44165]
[null,null,null,{"$f":"IF(C41=\"\",\"\",WEEKDAY(DATE('４月'!$B$4,$B$5,C41)))","v":""},""]
[null,null,"当月合計",null,null,null,{"$f":"COUNTA(G11:G41)+COUNTA(F11:F41)","v":0},null,{"$f":"COUNTA(I11:I41)+COUNTA(H11:H41)","v":1},{"$f":"COUNTA(J11:J41)","v":1},{"$f":"COUNTA(K11:K41)","v":0}]
[null,null,"累計",null,null,null,{"$f":"'１０月'!G43+G42","v":3},null,{"$f":"'１０月'!I43+I42","v":13},{"$f":"'１０月'!J43+J42","v":7},{"$f":"'１０月'!K43+K42","v":0}]
[null,null,"貸出回数総累計（相談室を除く）",null,null,null,{"$f":"SUM(G43,I43,J43)","v":23}]

{"sheet":"１２月","index":9,"n_rows":44,"n_cols":16,"rows_kept":44,"cut":false,"hidden":false,"merged":[[43,2,43,5],[0,2,0,9],[3,1,3,2],[4,1,4,2],[9,5,9,6],[9,7,9,8],[41,2,41,3],[42,2,42,3],[18,9,18,10]]}
[null,null,"会議室貸出使用予定表"]
[null,null,null,"番号",null,"使用団体連絡先","代表者","住所","電話"]
[null,null,null,2,null,{"$f":"IF($D3=\"\",\"\",VLOOKUP($D3,初期画面!$M$4:$Q$20,2))","v":"つる山友会"},{"$f":"IF($D3=\"\",\"\",VLOOKUP($D3,初期画面!$M$4:$Q$20,3))","v":"鈴木秀一"},{"$f":"IF($D3=\"\",\"\",VLOOKUP($D3,初期画面!$M$4:$Q$20,4))","v":"都留市上谷4-10-9"},{"$f":"IF($D3=\"\",\"\",VLOOKUP($D3,初期画面!$M$4:$Q$20,5))","v":"090-4129-9578"}]
[null,{"$f":"'４月'!B4","v":2020},null,null,null,{"$f":"IF($D4=\"\",\"\",VLOOKUP($D4,初期画面!$M$4:$Q$20,2))","v":""},{"$f":"IF($D4=\"\",\"\",VLOOKUP($D4,初期画面!$M$4:$Q$20,3))","v":""},{"$f":"IF($D4=\"\",\"\",VLOOKUP($D4,初期画面!$M$4:$Q$20,4))","v":""},{"$f":"IF($D4=\"\",\"\",VLOOKUP($D4,初期画面!$M$4:$Q$20,5))","v":""},null,null,null,{"$f":"IF(AND(祝日!$B23<=DATE(初期画面!$C$3,$B$5,31),祝日!$B23>=DATE(初期画面!$C$3,$B$5,1)),祝日!B23,\"\")","v":""},{"$f":"IF(AND(祝日!$B23<=DATE(初期画面!$C$3,$B$5,31),祝日!$B23>=DATE(初期画面!$C$3,$B$5,1)),祝日!C23,\"\")","v":""}]
[null,12,null,null,null,{"$f":"IF($D5=\"\",\"\",VLOOKUP($D5,初期画面!$M$4:$Q$20,2))","v":""},{"$f":"IF($D5=\"\",\"\",VLOOKUP($D5,初期画面!$M$4:$Q$20,3))","v":""},{"$f":"IF($D5=\"\",\"\",VLOOKUP($D5,初期画面!$M$4:$Q$20,4))","v":""},{"$f":"IF($D5=\"\",\"\",VLOOKUP($D5,初期画面!$M$4:$Q$20,5))","v":""},null,null,null,{"$f":"IF(AND(祝日!$B24<=DATE(初期画面!$C$3,$B$5,31),祝日!$B24>=DATE(初期画面!$C$3,$B$5,1)),祝日!B24,\"\")","v":""},{"$f":"IF(AND(祝日!$B24<=DATE(初期画面!$C$3,$B$5,31),祝日!$B24>=DATE(初期画面!$C$3,$B$5,1)),祝日!C24,\"\")","v":""}]
[null,null,null,null,null,{"$f":"IF($D6=\"\",\"\",VLOOKUP($D6,初期画面!$M$4:$Q$20,2))","v":""},{"$f":"IF($D6=\"\",\"\",VLOOKUP($D6,初期画面!$M$4:$Q$20,3))","v":""},{"$f":"IF($D6=\"\",\"\",VLOOKUP($D6,初期画面!$M$4:$Q$20,4))","v":""},{"$f":"IF($D6=\"\",\"\",VLOOKUP($D6,初期画面!$M$4:$Q$20,5))","v":""},null,null,null,{"$f":"IF(AND(祝日!$B25<=DATE(初期画面!$C$3,$B$5,31),祝日!$B25>=DATE(初期画面!$C$3,$B$5,1)),祝日!B25,\"\")","v":"2020-12-29"},{"$f":"IF(AND(祝日!$B25<=DATE(初期画面!$C$3,$B$5,31),祝日!$B25>=DATE(初期画面!$C$3,$B$5,1)),祝日!C25,\"\")","v":"年末休暇"}]
[null,null,null,null,null,{"$f":"IF($D7=\"\",\"\",VLOOKUP($D7,初期画面!$M$4:$Q$20,2))","v":""},{"$f":"IF($D7=\"\",\"\",VLOOKUP($D7,初期画面!$M$4:$Q$20,3))","v":""},{"$f":"IF($D7=\"\",\"\",VLOOKUP($D7,初期画面!$M$4:$Q$20,4))","v":""},{"$f":"IF($D7=\"\",\"\",VLOOKUP($D7,初期画面!$M$4:$Q$20,5))","v":""},null,null,null,{"$f":"IF(AND(祝日!$B26<=DATE(初期画面!$C$3,$B$5,31),祝日!$B26>=DATE(初期画面!$C$3,$B$5,1)),祝日!B26,\"\")","v":"2020-12-30"},{"$f":"IF(AND(祝日!$B26<=DATE(初期画面!$C$3,$B$5,31),祝日!$B26>=DATE(初期画面!$C$3,$B$5,1)),祝日!C26,\"\")","v":"年末休暇"}]
[null,null,null,null,null,{"$f":"IF($D8=\"\",\"\",VLOOKUP($D8,初期画面!$M$4:$Q$20,2))","v":""},{"$f":"IF($D8=\"\",\"\",VLOOKUP($D8,初期画面!$M$4:$Q$20,3))","v":""},{"$f":"IF($D8=\"\",\"\",VLOOKUP($D8,初期画面!$M$4:$Q$20,4))","v":""},{"$f":"IF($D8=\"\",\"\",VLOOKUP($D8,初期画面!$M$4:$Q$20,5))","v":""},null,null,null,{"$f":"IF(AND(祝日!$B27<=DATE(初期画面!$C$3,$B$5,31),祝日!$B27>=DATE(初期画面!$C$3,$B$5,1)),祝日!B27,\"\")","v":"2020-12-31"},{"$f":"IF(AND(祝日!$B27<=DATE(初期画面!$C$3,$B$5,31),祝日!$B27>=DATE(初期画面!$C$3,$B$5,1)),祝日!C27,\"\")","v":"年末休暇"}]
[null,null,null,null,null,{"$f":"IF($D9=\"\",\"\",VLOOKUP($D9,初期画面!$M$4:$Q$20,2))","v":""},{"$f":"IF($D9=\"\",\"\",VLOOKUP($D9,初期画面!$M$4:$Q$20,3))","v":""},{"$f":"IF($D9=\"\",\"\",VLOOKUP($D9,初期画面!$M$4:$Q$20,4))","v":""},{"$f":"IF($D9=\"\",\"\",VLOOKUP($D9,初期画面!$M$4:$Q$20,5))","v":""}]
[null,null,"日","曜",null,"午前",null,"午後",null,"夜間","相談室",null,null,null,{"$f":"初期画面!M3","v":"番号"},{"$f":"初期画面!N3","v":"使用団体名"}]
[null,null,1,{"$f":"IF(C11=\"\",\"\",WEEKDAY(DATE('４月'!$B$4,$B$5,C11)))","v":3},{"$f":"IF(C11=\"\",\"\",DATE($B$4,$B$5,$C11))","v":44166},null,null,null,null,null,null,null,null,null,{"$f":"初期画面!M4","v":1},{"$f":"初期画面!N4","v":"都留市学童保育連絡協議会"}]
[null,null,2,{"$f":"IF(C12=\"\",\"\",WEEKDAY(DATE('４月'!$B$4,$B$5,C12)))","v":4},{"$f":"IF(C12=\"\",\"\",DATE($B$4,$B$5,$C12))","v":44167},null,null,null,null,null,null,null,null,null,{"$f":"初期画面!M5","v":2},{"$f":"初期画面!N5","v":"つる山友会"}]
[null,null,3,{"$f":"IF(C13=\"\",\"\",WEEKDAY(DATE('４月'!$B$4,$B$5,C13)))","v":5},44168,null,null,null,null,null,null,null,null,null,{"$f":"初期画面!M6","v":3},{"$f":"初期画面!N6","v":"ソロプチミスト山梨-芙蓉"}]
[null,null,4,{"$f":"IF(C14=\"\",\"\",WEEKDAY(DATE('４月'!$B$4,$B$5,C14)))","v":6},44169,null,null,null,null,null,null,null,null,null,{"$f":"初期画面!M7","v":4},{"$f":"初期画面!N7","v":"都留市養護教員会"}]
[null,null,5,{"$f":"IF(C15=\"\",\"\",WEEKDAY(DATE('４月'!$B$4,$B$5,C15)))","v":7},44170,null,null,null,null,null,null,null,null,null,{"$f":"初期画面!M8","v":5},{"$f":"初期画面!N8","v":"都留市合唱連盟"}]
[null,null,6,{"$f":"IF(C16=\"\",\"\",WEEKDAY(DATE('４月'!$B$4,$B$5,C16)))","v":1},44171,null,null,null,null,null,null,null,null,null,{"$f":"初期画面!M9","v":6},{"$f":"初期画面!N9","v":"退職公務員連盟"}]
[null,null,7,{"$f":"IF(C17=\"\",\"\",WEEKDAY(DATE('４月'!$B$4,$B$5,C17)))","v":2},44172,null,null,null,null,null,null,null,null,null,{"$f":"初期画面!M10","v":7},{"$f":"初期画面!N10","v":"教育会"}]
[null,null,8,{"$f":"IF(C18=\"\",\"\",WEEKDAY(DATE('４月'!$B$4,$B$5,C18)))","v":3},44173,null,null,"13:30~15:30ソロプチミスト山梨",null,null,null,null,null,null,{"$f":"初期画面!M11","v":8},{"$f":"初期画面!N11","v":"都留市学校事務共同実施担当者会"}]
[null,null,9,{"$f":"IF(C19=\"\",\"\",WEEKDAY(DATE('４月'!$B$4,$B$5,C19)))","v":4},44174,null,null,null,null,"18:30~21:00山友会",null,null,null,null,{"$f":"初期画面!M12","v":9},{"$f":"初期画面!N12","v":"教頭会"}]
[null,null,10,{"$f":"IF(C20=\"\",\"\",WEEKDAY(DATE('４月'!$B$4,$B$5,C20)))","v":5},44175,null,null,null,null,null,null,null,null,null,{"$f":"初期画面!M13","v":10},{"$f":"初期画面!N13","v":0}]
[null,null,11,{"$f":"IF(C21=\"\",\"\",WEEKDAY(DATE('４月'!$B$4,$B$5,C21)))","v":6},44176,null,null,null,null,null,null,null,null,null,{"$f":"初期画面!M14","v":11},{"$f":"初期画面!N14","v":0}]
[null,null,12,{"$f":"IF(C22=\"\",\"\",WEEKDAY(DATE('４月'!$B$4,$B$5,C22)))","v":7},44177,null,null,null,null,null,null,null,null,null,{"$f":"初期画面!M15","v":12},{"$f":"初期画面!N15","v":0}]
[null,null,13,{"$f":"IF(C23=\"\",\"\",WEEKDAY(DATE('４月'!$B$4,$B$5,C23)))","v":1},44178,null,null,null,null,null,null,null,null,null,{"$f":"初期画面!M16","v":13},{"$f":"初期画面!N16","v":0}]
[null,null,14,{"$f":"IF(C24=\"\",\"\",WEEKDAY(DATE('４月'!$B$4,$B$5,C24)))","v":2},44179,null,null,null,null,null,null,null,null,null,{"$f":"初期画面!M17","v":14},{"$f":"初期画面!N17","v":0}]
[null,null,15,{"$f":"IF(C25=\"\",\"\",WEEKDAY(DATE('４月'!$B$4,$B$5,C25)))","v":3},44180,null,null,null,null,null,null,null,null,null,{"$f":"初期画面!M18","v":15},{"$f":"初期画面!N18","v":0}]
[null,null,16,{"$f":"IF(C26=\"\",\"\",WEEKDAY(DATE('４月'!$B$4,$B$5,C26)))","v":4},44181,null,null,null,null,null,null,null,null,null,{"$f":"初期画面!M19","v":16},{"$f":"初期画面!N19","v":0}]
[null,null,17,{"$f":"IF(C27=\"\",\"\",WEEKDAY(DATE('４月'!$B$4,$B$5,C27)))","v":5},44182,null,null,null,null,null,null,null,null,null,{"$f":"初期画面!M20","v":17},{"$f":"初期画面!N20","v":0}]
[null,null,18,{"$f":"IF(C28=\"\",\"\",WEEKDAY(DATE('４月'!$B$4,$B$5,C28)))","v":6},44183]
[null,null,19,{"$f":"IF(C29=\"\",\"\",WEEKDAY(DATE('４月'!$B$4,$B$5,C29)))","v":7},44184]
[null,null,20,{"$f":"IF(C30=\"\",\"\",WEEKDAY(DATE('４月'!$B$4,$B$5,C30)))","v":1},44185]
[null,null,21,{"$f":"IF(C31=\"\",\"\",WEEKDAY(DATE('４月'!$B$4,$B$5,C31)))","v":2},44186]
[null,null,22,{"$f":"IF(C32=\"\",\"\",WEEKDAY(DATE('４月'!$B$4,$B$5,C32)))","v":3},44187]
[null,null,23,{"$f":"IF(C33=\"\",\"\",WEEKDAY(DATE('４月'!$B$4,$B$5,C33)))","v":4},44188]
[null,null,24,{"$f":"IF(C34=\"\",\"\",WEEKDAY(DATE('４月'!$B$4,$B$5,C34)))","v":5},44189]
[null,null,25,{"$f":"IF(C35=\"\",\"\",WEEKDAY(DATE('４月'!$B$4,$B$5,C35)))","v":6},44190]
[null,null,26,{"$f":"IF(C36=\"\",\"\",WEEKDAY(DATE('４月'!$B$4,$B$5,C36)))","v":7},44191]
[null,null,27,{"$f":"IF(C37=\"\",\"\",WEEKDAY(DATE('４月'!$B$4,$B$5,C37)))","v":1},44192]
[null,null,28,{"$f":"IF(C38=\"\",\"\",WEEKDAY(DATE('４月'!$B$4,$B$5,C38)))","v":2},44193]
[null,null,29,{"$f":"IF(C39=\"\",\"\",WEEKDAY(DATE('４月'!$B$4,$B$5,C39)))","v":3},44194]
[null,null,30,{"$f":"IF(C40=\"\",\"\",WEEKDAY(DATE('４月'!$B$4,$B$5,C40)))","v":4},44195]
[null,null,31,{"$f":"IF(C41=\"\",\"\",WEEKDAY(DATE('４月'!$B$4,$B$5,C41)))","v":5},44196]
[null,null,"当月合計",null,null,null,{"$f":"COUNTA(G11:G41)+COUNTA(F11:F41)","v":0},null,{"$f":"COUNTA(I11:I41)+COUNTA(H11:H41)","v":1},{"$f":"COUNTA(J11:J41)","v":1},{"$f":"COUNTA(K11:K41)","v":0}]
[null,null,"累計",null,null,null,{"$f":"'１１月'!G43+G42","v":3},null,{"$f":"'１１月'!I43+I42","v":14},{"$f":"'１１月'!J43+J42","v":8},{"$f":"'１１月'!K43+K42","v":0}]
[null,null,"貸出回数総累計（相談室を除く）",null,null,null,{"$f":"SUM(G43,I43,J43)","v":25}]

{"sheet":"１月","index":10,"n_rows":44,"n_cols":16,"rows_kept":44,"cut":false,"hidden":false,"merged":[[43,2,43,5],[0,2,0,9],[3,1,3,2],[4,1,4,2],[9,5,9,6],[9,7,9,8],[41,2,41,3],[42,2,42,3]]}
[null,null,"会議室貸出使用予定表"]
[null,null,null,"番号",null,"使用団体連絡先","代表者","住所","電話"]
[null,null,null,null,null,{"$f":"IF($D3=\"\",\"\",VLOOKUP($D3,初期画面!$M$4:$Q$20,2))","v":""},{"$f":"IF($D3=\"\",\"\",VLOOKUP($D3,初期画面!$M$4:$Q$20,3))","v":""},{"$f":"IF($D3=\"\",\"\",VLOOKUP($D3,初期画面!$M$4:$Q$20,4))","v":""},{"$f":"IF($D3=\"\",\"\",VLOOKUP($D3,初期画面!$M$4:$Q$20,5))","v":""},null,null,null,{"$f":"IF(AND(祝日!$B28<=DATE(初期画面!$C$3+1,$B$5,31),祝日!$B28>=DATE(初期画面!$C$3+1,$B$5,1)),祝日!B28,\"\")","v":"2021-01-01"},{"$f":"IF(AND(祝日!$B28<=DATE(初期画面!$C$3+1,$B$5,31),祝日!$B28>=DATE(初期画面!$C$3+1,$B$5,1)),祝日!C28,\"\")","v":"元旦"}]
[null,{"$f":"'４月'!B4+1","v":2021},null,null,null,{"$f":"IF($D4=\"\",\"\",VLOOKUP($D4,初期画面!$M$4:$Q$20,2))","v":""},{"$f":"IF($D4=\"\",\"\",VLOOKUP($D4,初期画面!$M$4:$Q$20,3))","v":""},{"$f":"IF($D4=\"\",\"\",VLOOKUP($D4,初期画面!$M$4:$Q$20,4))","v":""},{"$f":"IF($D4=\"\",\"\",VLOOKUP($D4,初期画面!$M$4:$Q$20,5))","v":""},null,null,null,{"$f":"IF(AND(祝日!$B29<=DATE(初期画面!$C$3+1,$B$5,31),祝日!$B29>=DATE(初期画面!$C$3+1,$B$5,1)),祝日!B29,\"\")","v":"2021-01-02"},{"$f":"IF(AND(祝日!$B29<=DATE(初期画面!$C$3+1,$B$5,31),祝日!$B29>=DATE(初期画面!$C$3+1,$B$5,1)),祝日!C29,\"\")","v":"年始休暇"}]
[null,1,null,null,null,{"$f":"IF($D5=\"\",\"\",VLOOKUP($D5,初期画面!$M$4:$Q$20,2))","v":""},{"$f":"IF($D5=\"\",\"\",VLOOKUP($D5,初期画面!$M$4:$Q$20,3))","v":""},{"$f":"IF($D5=\"\",\"\",VLOOKUP($D5,初期画面!$M$4:$Q$20,4))","v":""},{"$f":"IF($D5=\"\",\"\",VLOOKUP($D5,初期画面!$M$4:$Q$20,5))","v":""},null,null,null,{"$f":"IF(AND(祝日!$B30<=DATE(初期画面!$C$3+1,$B$5,31),祝日!$B30>=DATE(初期画面!$C$3+1,$B$5,1)),祝日!B30,\"\")","v":"2021-01-03"},{"$f":"IF(AND(祝日!$B30<=DATE(初期画面!$C$3+1,$B$5,31),祝日!$B30>=DATE(初期画面!$C$3+1,$B$5,1)),祝日!C30,\"\")","v":"年始休暇"}]
[null,null,null,null,null,{"$f":"IF($D6=\"\",\"\",VLOOKUP($D6,初期画面!$M$4:$Q$20,2))","v":""},{"$f":"IF($D6=\"\",\"\",VLOOKUP($D6,初期画面!$M$4:$Q$20,3))","v":""},{"$f":"IF($D6=\"\",\"\",VLOOKUP($D6,初期画面!$M$4:$Q$20,4))","v":""},{"$f":"IF($D6=\"\",\"\",VLOOKUP($D6,初期画面!$M$4:$Q$20,5))","v":""},null,null,null,{"$f":"IF(AND(祝日!$B31<=DATE(初期画面!$C$3+1,$B$5,31),祝日!$B31>=DATE(初期画面!$C$3+1,$B$5,1)),祝日!B31,\"\")","v":"2021-01-13"},{"$f":"IF(AND(祝日!$B31<=DATE(初期画面!$C$3+1,$B$5,31),祝日!$B31>=DATE(初期画面!$C$3+1,$B$5,1)),祝日!C31,\"\")","v":"成人の日"}]
[null,null,null,null,null,{"$f":"IF($D7=\"\",\"\",VLOOKUP($D7,初期画面!$M$4:$Q$20,2))","v":""},{"$f":"IF($D7=\"\",\"\",VLOOKUP($D7,初期画面!$M$4:$Q$20,3))","v":""},{"$f":"IF($D7=\"\",\"\",VLOOKUP($D7,初期画面!$M$4:$Q$20,4))","v":""},{"$f":"IF($D7=\"\",\"\",VLOOKUP($D7,初期画面!$M$4:$Q$20,5))","v":""},null,null,null,{"$f":"IF(AND(祝日!$B32<=DATE(初期画面!$C$3+1,$B$5,31),祝日!$B32>=DATE(初期画面!$C$3+1,$B$5,1)),祝日!B32,\"\")","v":""},{"$f":"IF(AND(祝日!$B32<=DATE(初期画面!$C$3+1,$B$5,31),祝日!$B32>=DATE(初期画面!$C$3+1,$B$5,1)),祝日!C32,\"\")","v":""}]
[null,null,null,null,null,{"$f":"IF($D8=\"\",\"\",VLOOKUP($D8,初期画面!$M$4:$Q$20,2))","v":""},{"$f":"IF($D8=\"\",\"\",VLOOKUP($D8,初期画面!$M$4:$Q$20,3))","v":""},{"$f":"IF($D8=\"\",\"\",VLOOKUP($D8,初期画面!$M$4:$Q$20,4))","v":""},{"$f":"IF($D8=\"\",\"\",VLOOKUP($D8,初期画面!$M$4:$Q$20,5))","v":""}]
[null,null,null,null,null,{"$f":"IF($D9=\"\",\"\",VLOOKUP($D9,初期画面!$M$4:$Q$20,2))","v":""},{"$f":"IF($D9=\"\",\"\",VLOOKUP($D9,初期画面!$M$4:$Q$20,3))","v":""},{"$f":"IF($D9=\"\",\"\",VLOOKUP($D9,初期画面!$M$4:$Q$20,4))","v":""},{"$f":"IF($D9=\"\",\"\",VLOOKUP($D9,初期画面!$M$4:$Q$20,5))","v":""}]
[null,null,"日","曜",null,"午前",null,"午後",null,"夜間","相談室",null,null,null,{"$f":"初期画面!M3","v":"番号"},{"$f":"初期画面!N3","v":"使用団体名"}]
[null,null,1,{"$f":"IF(C11=\"\",\"\",WEEKDAY(DATE('１月'!$B$4,$B$5,C11)))","v":6},{"$f":"IF($C11=\"\",\"\",DATE($B$4,$B$5,$C11))","v":44197},null,null,null,null,null,null,null,null,null,{"$f":"初期画面!M4","v":1},{"$f":"初期画面!N4","v":"都留市学童保育連絡協議会"}]
[null,null,2,{"$f":"IF(C12=\"\",\"\",WEEKDAY(DATE('１月'!$B$4,$B$5,C12)))","v":7},{"$f":"IF($C12=\"\",\"\",DATE($B$4,$B$5,$C12))","v":44198},null,null,null,null,null,null,null,null,null,{"$f":"初期画面!M5","v":2},{"$f":"初期画面!N5","v":"つる山友会"}]
[null,null,3,{"$f":"IF(C13=\"\",\"\",WEEKDAY(DATE('１月'!$B$4,$B$5,C13)))","v":1},44199,null,null,null,null,null,null,null,null,null,{"$f":"初期画面!M6","v":3},{"$f":"初期画面!N6","v":"ソロプチミスト山梨-芙蓉"}]
[null,null,4,{"$f":"IF(C14=\"\",\"\",WEEKDAY(DATE('１月'!$B$4,$B$5,C14)))","v":2},44200,null,null,null,null,null,null,null,null,null,{"$f":"初期画面!M7","v":4},{"$f":"初期画面!N7","v":"都留市養護教員会"}]
[null,null,5,{"$f":"IF(C15=\"\",\"\",WEEKDAY(DATE('１月'!$B$4,$B$5,C15)))","v":3},44201,null,null,null,null,null,null,null,null,null,{"$f":"初期画面!M8","v":5},{"$f":"初期画面!N8","v":"都留市合唱連盟"}]
[null,null,6,{"$f":"IF(C16=\"\",\"\",WEEKDAY(DATE('１月'!$B$4,$B$5,C16)))","v":4},44202,null,null,null,null,null,null,null,null,null,{"$f":"初期画面!M9","v":6},{"$f":"初期画面!N9","v":"退職公務員連盟"}]
[null,null,7,{"$f":"IF(C17=\"\",\"\",WEEKDAY(DATE('１月'!$B$4,$B$5,C17)))","v":5},44203,null,null,null,null,null,null,null,null,null,{"$f":"初期画面!M10","v":7},{"$f":"初期画面!N10","v":"教育会"}]
[null,null,8,{"$f":"IF(C18=\"\",\"\",WEEKDAY(DATE('１月'!$B$4,$B$5,C18)))","v":6},44204,null,null,null,null,null,null,null,null,null,{"$f":"初期画面!M11","v":8},{"$f":"初期画面!N11","v":"都留市学校事務共同実施担当者会"}]
[null,null,9,{"$f":"IF(C19=\"\",\"\",WEEKDAY(DATE('１月'!$B$4,$B$5,C19)))","v":7},44205,null,null,null,null,null,null,null,null,null,{"$f":"初期画面!M12","v":9},{"$f":"初期画面!N12","v":"教頭会"}]
[null,null,10,{"$f":"IF(C20=\"\",\"\",WEEKDAY(DATE('１月'!$B$4,$B$5,C20)))","v":1},44206,null,null,null,null,null,null,null,null,null,{"$f":"初期画面!M13","v":10},{"$f":"初期画面!N13","v":0}]
[null,null,11,{"$f":"IF(C21=\"\",\"\",WEEKDAY(DATE('１月'!$B$4,$B$5,C21)))","v":2},44207,null,null,null,null,null,null,null,null,null,{"$f":"初期画面!M14","v":11},{"$f":"初期画面!N14","v":0}]
[null,null,12,{"$f":"IF(C22=\"\",\"\",WEEKDAY(DATE('１月'!$B$4,$B$5,C22)))","v":3},44208,null,null,"13:30~15:30ソロプチミスト山梨",null,null,null,null,null,null,{"$f":"初期画面!M15","v":12},{"$f":"初期画面!N15","v":0}]
[null,null,13,{"$f":"IF(C23=\"\",\"\",WEEKDAY(DATE('１月'!$B$4,$B$5,C23)))","v":4},44209,null,null,null,null,null,null,null,null,null,{"$f":"初期画面!M16","v":13},{"$f":"初期画面!N16","v":0}]
[null,null,14,{"$f":"IF(C24=\"\",\"\",WEEKDAY(DATE('１月'!$B$4,$B$5,C24)))","v":5},44210,null,null,null,null,null,null,null,null,null,{"$f":"初期画面!M17","v":14},{"$f":"初期画面!N17","v":0}]
[null,null,15,{"$f":"IF(C25=\"\",\"\",WEEKDAY(DATE('１月'!$B$4,$B$5,C25)))","v":6},44211,null,null,null,null,null,null,null,null,null,{"$f":"初期画面!M18","v":15},{"$f":"初期画面!N18","v":0}]
[null,null,16,{"$f":"IF(C26=\"\",\"\",WEEKDAY(DATE('１月'!$B$4,$B$5,C26)))","v":7},44212,null,null,null,null,null,null,null,null,null,{"$f":"初期画面!M19","v":16},{"$f":"初期画面!N19","v":0}]
[null,null,17,{"$f":"IF(C27=\"\",\"\",WEEKDAY(DATE('１月'!$B$4,$B$5,C27)))","v":1},44213,null,null,null,null,null,null,null,null,null,{"$f":"初期画面!M20","v":17},{"$f":"初期画面!N20","v":0}]
[null,null,18,{"$f":"IF(C28=\"\",\"\",WEEKDAY(DATE('１月'!$B$4,$B$5,C28)))","v":2},44214]
[null,null,19,{"$f":"IF(C29=\"\",\"\",WEEKDAY(DATE('１月'!$B$4,$B$5,C29)))","v":3},44215]
[null,null,20,{"$f":"IF(C30=\"\",\"\",WEEKDAY(DATE('１月'!$B$4,$B$5,C30)))","v":4},44216]
[null,null,21,{"$f":"IF(C31=\"\",\"\",WEEKDAY(DATE('１月'!$B$4,$B$5,C31)))","v":5},44217]
[null,null,22,{"$f":"IF(C32=\"\",\"\",WEEKDAY(DATE('１月'!$B$4,$B$5,C32)))","v":6},44218]
[null,null,23,{"$f":"IF(C33=\"\",\"\",WEEKDAY(DATE('１月'!$B$4,$B$5,C33)))","v":7},44219]
[null,null,24,{"$f":"IF(C34=\"\",\"\",WEEKDAY(DATE('１月'!$B$4,$B$5,C34)))","v":1},44220]
[null,null,25,{"$f":"IF(C35=\"\",\"\",WEEKDAY(DATE('１月'!$B$4,$B$5,C35)))","v":2},44221]
[null,null,26,{"$f":"IF(C36=\"\",\"\",WEEKDAY(DATE('１月'!$B$4,$B$5,C36)))","v":3},44222]
[null,null,27,{"$f":"IF(C37=\"\",\"\",WEEKDAY(DATE('１月'!$B$4,$B$5,C37)))","v":4},44223]
[null,null,28,{"$f":"IF(C38=\"\",\"\",WEEKDAY(DATE('１月'!$B$4,$B$5,C38)))","v":5},44224]
[null,null,29,{"$f":"IF(C39=\"\",\"\",WEEKDAY(DATE('１月'!$B$4,$B$5,C39)))","v":6},44225]
[null,null,30,{"$f":"IF(C40=\"\",\"\",WEEKDAY(DATE('１月'!$B$4,$B$5,C40)))","v":7},44226]
[null,null,31,{"$f":"IF(C41=\"\",\"\",WEEKDAY(DATE('１月'!$B$4,$B$5,C41)))","v":1},44227]
[null,null,"当月合計",null,null,null,{"$f":"COUNTA(G11:G41)+COUNTA(F11:F41)","v":0},null,{"$f":"COUNTA(I11:I41)+COUNTA(H11:H41)","v":1},{"$f":"COUNTA(J11:J41)","v":0},{"$f":"COUNTA(K11:K41)","v":0}]
[null,null,"累計",null,null,null,{"$f":"'１２月'!G43+G42","v":3},null,{"$f":"'１２月'!I43+I42","v":15},{"$f":"'１２月'!J43+J42","v":8},{"$f":"'１２月'!K43+K42","v":0}]
[null,null,"貸出回数総累計（相談室を除く）",null,null,null,{"$f":"SUM(G43,I43,J43)","v":26}]

{"sheet":"２月","index":11,"n_rows":44,"n_cols":16,"rows_kept":44,"cut":false,"hidden":false,"merged":[[43,2,43,5],[0,2,0,9],[3,1,3,2],[4,1,4,2],[9,5,9,6],[9,7,9,8],[41,2,41,3],[42,2,42,3],[5,1,5,2]]}
[null,null,"会議室貸出使用予定表"]
[null,null,null,"番号",null,"使用団体連絡先","代表者","住所","電話"]
[null,null,null,null,null,{"$f":"IF($D3=\"\",\"\",VLOOKUP($D3,初期画面!$M$4:$Q$20,2))","v":""},{"$f":"IF($D3=\"\",\"\",VLOOKUP($D3,初期画面!$M$4:$Q$20,3))","v":""},{"$f":"IF($D3=\"\",\"\",VLOOKUP($D3,初期画面!$M$4:$Q$20,4))","v":""},{"$f":"IF($D3=\"\",\"\",VLOOKUP($D3,初期画面!$M$4:$Q$20,5))","v":""},null,null,null,{"$f":"IF(AND(祝日!$B33<=DATE(初期画面!$C$3+1,$B$5,31),祝日!$B33>=DATE(初期画面!$C$3+1,$B$5,1)),祝日!B33,\"\")","v":"2021-02-11"},{"$f":"IF(AND(祝日!$B33<=DATE(初期画面!$C$3+1,$B$5,31),祝日!$B33>=DATE(初期画面!$C$3+1,$B$5,1)),祝日!C33,\"\")","v":"建国記念の日"}]
[null,{"$f":"'１月'!B4","v":2021},null,null,null,{"$f":"IF($D4=\"\",\"\",VLOOKUP($D4,初期画面!$M$4:$Q$20,2))","v":""},{"$f":"IF($D4=\"\",\"\",VLOOKUP($D4,初期画面!$M$4:$Q$20,3))","v":""},{"$f":"IF($D4=\"\",\"\",VLOOKUP($D4,初期画面!$M$4:$Q$20,4))","v":""},{"$f":"IF($D4=\"\",\"\",VLOOKUP($D4,初期画面!$M$4:$Q$20,5))","v":""},null,null,null,{"$f":"IF(AND(祝日!$B34<=DATE(初期画面!$C$3+1,$B$5,31),祝日!$B34>=DATE(初期画面!$C$3+1,$B$5,1)),祝日!B34,\"\")","v":"2021-02-23"},{"$f":"IF(AND(祝日!$B34<=DATE(初期画面!$C$3+1,$B$5,31),祝日!$B34>=DATE(初期画面!$C$3+1,$B$5,1)),祝日!C34,\"\")","v":"天皇誕生日"}]
[null,2,null,null,null,{"$f":"IF($D5=\"\",\"\",VLOOKUP($D5,初期画面!$M$4:$Q$20,2))","v":""},{"$f":"IF($D5=\"\",\"\",VLOOKUP($D5,初期画面!$M$4:$Q$20,3))","v":""},{"$f":"IF($D5=\"\",\"\",VLOOKUP($D5,初期画面!$M$4:$Q$20,4))","v":""},{"$f":"IF($D5=\"\",\"\",VLOOKUP($D5,初期画面!$M$4:$Q$20,5))","v":""},null,null,null,{"$f":"IF(AND(祝日!$B35<=DATE(初期画面!$C$3+1,$B$5,31),祝日!$B35>=DATE(初期画面!$C$3+1,$B$5,1)),祝日!B35,\"\")","v":""},{"$f":"IF(AND(祝日!$B35<=DATE(初期画面!$C$3+1,$B$5,31),祝日!$B35>=DATE(初期画面!$C$3+1,$B$5,1)),祝日!C35,\"\")","v":""}]
[null,{"$f":"IF(DAY(DATE($B$4,$B$5,29))=29,\"閏年です\",\"\")","v":""},{"$f":"IF(DAY(DATE($B$4,$B$5,29))=29,\"29\",\"\")","v":""},null,null,{"$f":"IF($D6=\"\",\"\",VLOOKUP($D6,初期画面!$M$4:$Q$20,2))","v":""},{"$f":"IF($D6=\"\",\"\",VLOOKUP($D6,初期画面!$M$4:$Q$20,3))","v":""},{"$f":"IF($D6=\"\",\"\",VLOOKUP($D6,初期画面!$M$4:$Q$20,4))","v":""},{"$f":"IF($D6=\"\",\"\",VLOOKUP($D6,初期画面!$M$4:$Q$20,5))","v":""}]
[null,null,null,null,null,{"$f":"IF($D7=\"\",\"\",VLOOKUP($D7,初期画面!$M$4:$Q$20,2))","v":""},{"$f":"IF($D7=\"\",\"\",VLOOKUP($D7,初期画面!$M$4:$Q$20,3))","v":""},{"$f":"IF($D7=\"\",\"\",VLOOKUP($D7,初期画面!$M$4:$Q$20,4))","v":""},{"$f":"IF($D7=\"\",\"\",VLOOKUP($D7,初期画面!$M$4:$Q$20,5))","v":""}]
[null,null,null,null,null,{"$f":"IF($D8=\"\",\"\",VLOOKUP($D8,初期画面!$M$4:$Q$20,2))","v":""},{"$f":"IF($D8=\"\",\"\",VLOOKUP($D8,初期画面!$M$4:$Q$20,3))","v":""},{"$f":"IF($D8=\"\",\"\",VLOOKUP($D8,初期画面!$M$4:$Q$20,4))","v":""},{"$f":"IF($D8=\"\",\"\",VLOOKUP($D8,初期画面!$M$4:$Q$20,5))","v":""}]
[null,null,null,null,null,{"$f":"IF($D9=\"\",\"\",VLOOKUP($D9,初期画面!$M$4:$Q$20,2))","v":""},{"$f":"IF($D9=\"\",\"\",VLOOKUP($D9,初期画面!$M$4:$Q$20,3))","v":""},{"$f":"IF($D9=\"\",\"\",VLOOKUP($D9,初期画面!$M$4:$Q$20,4))","v":""},{"$f":"IF($D9=\"\",\"\",VLOOKUP($D9,初期画面!$M$4:$Q$20,5))","v":""}]
[null,null,"日","曜",null,"午前",null,"午後",null,"夜間","相談室",null,null,null,{"$f":"初期画面!M3","v":"番号"},{"$f":"初期画面!N3","v":"使用団体名"}]
[null,null,1,{"$f":"IF(C11=\"\",\"\",WEEKDAY(DATE('１月'!$B$4,$B$5,C11)))","v":2},{"$f":"IF(C11=\"\",\"\",DATE($B$4,$B$5,$C11))","v":44228},null,null,null,null,null,null,null,null,null,{"$f":"初期画面!M4","v":1},{"$f":"初期画面!N4","v":"都留市学童保育連絡協議会"}]
[null,null,2,{"$f":"IF(C12=\"\",\"\",WEEKDAY(DATE('１月'!$B$4,$B$5,C12)))","v":3},{"$f":"IF(C12=\"\",\"\",DATE($B$4,$B$5,$C12))","v":44229},null,null,null,null,null,null,null,null,null,{"$f":"初期画面!M5","v":2},{"$f":"初期画面!N5","v":"つる山友会"}]
[null,null,3,{"$f":"IF(C13=\"\",\"\",WEEKDAY(DATE('１月'!$B$4,$B$5,C13)))","v":4},44230,null,null,null,null,null,null,null,null,null,{"$f":"初期画面!M6","v":3},{"$f":"初期画面!N6","v":"ソロプチミスト山梨-芙蓉"}]
[null,null,4,{"$f":"IF(C14=\"\",\"\",WEEKDAY(DATE('１月'!$B$4,$B$5,C14)))","v":5},44231,null,null,null,null,null,null,null,null,null,{"$f":"初期画面!M7","v":4},{"$f":"初期画面!N7","v":"都留市養護教員会"}]
[null,null,5,{"$f":"IF(C15=\"\",\"\",WEEKDAY(DATE('１月'!$B$4,$B$5,C15)))","v":6},44232,null,null,null,null,null,null,null,null,null,{"$f":"初期画面!M8","v":5},{"$f":"初期画面!N8","v":"都留市合唱連盟"}]
[null,null,6,{"$f":"IF(C16=\"\",\"\",WEEKDAY(DATE('１月'!$B$4,$B$5,C16)))","v":7},44233,null,null,null,null,null,null,null,null,null,{"$f":"初期画面!M9","v":6},{"$f":"初期画面!N9","v":"退職公務員連盟"}]
[null,null,7,{"$f":"IF(C17=\"\",\"\",WEEKDAY(DATE('１月'!$B$4,$B$5,C17)))","v":1},44234,null,null,null,null,null,null,null,null,null,{"$f":"初期画面!M10","v":7},{"$f":"初期画面!N10","v":"教育会"}]
[null,null,8,{"$f":"IF(C18=\"\",\"\",WEEKDAY(DATE('１月'!$B$4,$B$5,C18)))","v":2},44235,null,null,null,null,null,null,null,null,null,{"$f":"初期画面!M11","v":8},{"$f":"初期画面!N11","v":"都留市学校事務共同実施担当者会"}]
[null,null,9,{"$f":"IF(C19=\"\",\"\",WEEKDAY(DATE('１月'!$B$4,$B$5,C19)))","v":3},44236,null,null,"13:30~15:30ソロプチミスト山梨",null,null,null,null,null,null,{"$f":"初期画面!M12","v":9},{"$f":"初期画面!N12","v":"教頭会"}]
[null,null,10,{"$f":"IF(C20=\"\",\"\",WEEKDAY(DATE('１月'!$B$4,$B$5,C20)))","v":4},44237,null,null,null,null,null,null,null,null,null,{"$f":"初期画面!M13","v":10},{"$f":"初期画面!N13","v":0}]
[null,null,11,{"$f":"IF(C21=\"\",\"\",WEEKDAY(DATE('１月'!$B$4,$B$5,C21)))","v":5},44238,null,null,null,null,null,null,null,null,null,{"$f":"初期画面!M14","v":11},{"$f":"初期画面!N14","v":0}]
[null,null,12,{"$f":"IF(C22=\"\",\"\",WEEKDAY(DATE('１月'!$B$4,$B$5,C22)))","v":6},44239,null,null,null,null,null,null,null,null,null,{"$f":"初期画面!M15","v":12},{"$f":"初期画面!N15","v":0}]
[null,null,13,{"$f":"IF(C23=\"\",\"\",WEEKDAY(DATE('１月'!$B$4,$B$5,C23)))","v":7},44240,null,null,null,null,null,null,null,null,null,{"$f":"初期画面!M16","v":13},{"$f":"初期画面!N16","v":0}]
[null,null,14,{"$f":"IF(C24=\"\",\"\",WEEKDAY(DATE('１月'!$B$4,$B$5,C24)))","v":1},44241,null,null,null,null,null,null,null,null,null,{"$f":"初期画面!M17","v":14},{"$f":"初期画面!N17","v":0}]
[null,null,15,{"$f":"IF(C25=\"\",\"\",WEEKDAY(DATE('１月'!$B$4,$B$5,C25)))","v":2},44242,null,null,null,null,null,null,null,null,null,{"$f":"初期画面!M18","v":15},{"$f":"初期画面!N18","v":0}]
[null,null,16,{"$f":"IF(C26=\"\",\"\",WEEKDAY(DATE('１月'!$B$4,$B$5,C26)))","v":3},44243,null,null,null,null,null,null,null,null,null,{"$f":"初期画面!M19","v":16},{"$f":"初期画面!N19","v":0}]
[null,null,17,{"$f":"IF(C27=\"\",\"\",WEEKDAY(DATE('１月'!$B$4,$B$5,C27)))","v":4},44244,null,null,null,null,null,null,null,null,null,{"$f":"初期画面!M20","v":17},{"$f":"初期画面!N20","v":0}]
[null,null,18,{"$f":"IF(C28=\"\",\"\",WEEKDAY(DATE('１月'!$B$4,$B$5,C28)))","v":5},44245]
[null,null,19,{"$f":"IF(C29=\"\",\"\",WEEKDAY(DATE('１月'!$B$4,$B$5,C29)))","v":6},44246]
[null,null,20,{"$f":"IF(C30=\"\",\"\",WEEKDAY(DATE('１月'!$B$4,$B$5,C30)))","v":7},44247]
[null,null,21,{"$f":"IF(C31=\"\",\"\",WEEKDAY(DATE('１月'!$B$4,$B$5,C31)))","v":1},44248]
[null,null,22,{"$f":"IF(C32=\"\",\"\",WEEKDAY(DATE('１月'!$B$4,$B$5,C32)))","v":2},44249]
[null,null,23,{"$f":"IF(C33=\"\",\"\",WEEKDAY(DATE('１月'!$B$4,$B$5,C33)))","v":3},44250]
[null,null,24,{"$f":"IF(C34=\"\",\"\",WEEKDAY(DATE('１月'!$B$4,$B$5,C34)))","v":4},44251]
[null,null,25,{"$f":"IF(C35=\"\",\"\",WEEKDAY(DATE('１月'!$B$4,$B$5,C35)))","v":5},44252]
[null,null,26,{"$f":"IF(C36=\"\",\"\",WEEKDAY(DATE('１月'!$B$4,$B$5,C36)))","v":6},44253]
[null,null,27,{"$f":"IF(C37=\"\",\"\",WEEKDAY(DATE('１月'!$B$4,$B$5,C37)))","v":7},44254]
[null,null,28,{"$f":"IF(C38=\"\",\"\",WEEKDAY(DATE('１月'!$B$4,$B$5,C38)))","v":1},44255]
[null,null,{"$f":"IF(DAY(DATE($B$4,$B$5,29))=29,\"29\",\"\")","v":""},{"$f":"IF(C39=\"\",\"\",WEEKDAY(DATE('１月'!$B$4,$B$5,C39)))","v":""},""]
[null,null,null,{"$f":"IF(C40=\"\",\"\",WEEKDAY(DATE('１月'!$B$4,$B$5,C40)))","v":""},""]
[null,null,null,{"$f":"IF(C41=\"\",\"\",WEEKDAY(DATE('１月'!$B$4,$B$5,C41)))","v":""},""]
[null,null,"当月合計",null,null,null,{"$f":"COUNTA(G11:G41)+COUNTA(F11:F41)","v":0},null,{"$f":"COUNTA(I11:I41)+COUNTA(H11:H41)","v":1},{"$f":"COUNTA(J11:J41)","v":0},{"$f":"COUNTA(K11:K41)","v":0}]
[null,null,"累計",null,null,null,{"$f":"'１月'!G43+G42","v":3},null,{"$f":"'１月'!I43+I42","v":16},{"$f":"'１月'!J43+J42","v":8},{"$f":"'１月'!K43+K42","v":0}]
[null,null,"貸出回数総累計（相談室を除く）",null,null,null,{"$f":"SUM(G43,I43,J43)","v":27}]

{"sheet":"３月","index":12,"n_rows":44,"n_cols":16,"rows_kept":44,"cut":false,"hidden":false,"merged":[[43,2,43,5],[0,2,0,9],[3,1,3,2],[4,1,4,2],[9,5,9,6],[9,7,9,8],[41,2,41,3],[42,2,42,3]]}
[null,null,"会議室貸出使用予定表"]
[null,null,null,"番号",null,"使用団体連絡先","代表者","住所","電話"]
[null,null,null,null,null,{"$f":"IF($D3=\"\",\"\",VLOOKUP($D3,初期画面!$M$4:$Q$20,2))","v":""},{"$f":"IF($D3=\"\",\"\",VLOOKUP($D3,初期画面!$M$4:$Q$20,3))","v":""},{"$f":"IF($D3=\"\",\"\",VLOOKUP($D3,初期画面!$M$4:$Q$20,4))","v":""},{"$f":"IF($D3=\"\",\"\",VLOOKUP($D3,初期画面!$M$4:$Q$20,5))","v":""},null,null,null,{"$f":"IF(AND(祝日!$B36<=DATE(初期画面!$C$3+1,$B$5,31),祝日!$B36>=DATE(初期画面!$C$3+1,$B$5,1)),祝日!B36,\"\")","v":"2021-03-20"},{"$f":"IF(AND(祝日!$B36<=DATE(初期画面!$C$3+1,$B$5,31),祝日!$B36>=DATE(初期画面!$C$3+1,$B$5,1)),祝日!C36,\"\")","v":"春分の日"}]
[null,{"$f":"'１月'!B4","v":2021},null,null,null,{"$f":"IF($D4=\"\",\"\",VLOOKUP($D4,初期画面!$M$4:$Q$20,2))","v":""},{"$f":"IF($D4=\"\",\"\",VLOOKUP($D4,初期画面!$M$4:$Q$20,3))","v":""},{"$f":"IF($D4=\"\",\"\",VLOOKUP($D4,初期画面!$M$4:$Q$20,4))","v":""},{"$f":"IF($D4=\"\",\"\",VLOOKUP($D4,初期画面!$M$4:$Q$20,5))","v":""},null,null,null,{"$f":"IF(AND(祝日!$B37<=DATE(初期画面!$C$3+1,$B$5,31),祝日!$B37>=DATE(初期画面!$C$3+1,$B$5,1)),祝日!B37,\"\")","v":""},{"$f":"IF(AND(祝日!$B37<=DATE(初期画面!$C$3+1,$B$5,31),祝日!$B37>=DATE(初期画面!$C$3+1,$B$5,1)),祝日!C37,\"\")","v":""}]
[null,3,null,null,null,{"$f":"IF($D5=\"\",\"\",VLOOKUP($D5,初期画面!$M$4:$Q$20,2))","v":""},{"$f":"IF($D5=\"\",\"\",VLOOKUP($D5,初期画面!$M$4:$Q$20,3))","v":""},{"$f":"IF($D5=\"\",\"\",VLOOKUP($D5,初期画面!$M$4:$Q$20,4))","v":""},{"$f":"IF($D5=\"\",\"\",VLOOKUP($D5,初期画面!$M$4:$Q$20,5))","v":""},null,null,null,{"$f":"IF(AND(祝日!$B38<=DATE(初期画面!$C$3+1,$B$5,31),祝日!$B38>=DATE(初期画面!$C$3+1,$B$5,1)),祝日!B38,\"\")","v":""},{"$f":"IF(AND(祝日!$B38<=DATE(初期画面!$C$3+1,$B$5,31),祝日!$B38>=DATE(初期画面!$C$3+1,$B$5,1)),祝日!C38,\"\")","v":""}]
[null,null,null,null,null,{"$f":"IF($D6=\"\",\"\",VLOOKUP($D6,初期画面!$M$4:$Q$20,2))","v":""},{"$f":"IF($D6=\"\",\"\",VLOOKUP($D6,初期画面!$M$4:$Q$20,3))","v":""},{"$f":"IF($D6=\"\",\"\",VLOOKUP($D6,初期画面!$M$4:$Q$20,4))","v":""},{"$f":"IF($D6=\"\",\"\",VLOOKUP($D6,初期画面!$M$4:$Q$20,5))","v":""}]
[null,null,null,null,null,{"$f":"IF($D7=\"\",\"\",VLOOKUP($D7,初期画面!$M$4:$Q$20,2))","v":""},{"$f":"IF($D7=\"\",\"\",VLOOKUP($D7,初期画面!$M$4:$Q$20,3))","v":""},{"$f":"IF($D7=\"\",\"\",VLOOKUP($D7,初期画面!$M$4:$Q$20,4))","v":""},{"$f":"IF($D7=\"\",\"\",VLOOKUP($D7,初期画面!$M$4:$Q$20,5))","v":""}]
[null,null,null,null,null,{"$f":"IF($D8=\"\",\"\",VLOOKUP($D8,初期画面!$M$4:$Q$20,2))","v":""},{"$f":"IF($D8=\"\",\"\",VLOOKUP($D8,初期画面!$M$4:$Q$20,3))","v":""},{"$f":"IF($D8=\"\",\"\",VLOOKUP($D8,初期画面!$M$4:$Q$20,4))","v":""},{"$f":"IF($D8=\"\",\"\",VLOOKUP($D8,初期画面!$M$4:$Q$20,5))","v":""}]
[null,null,null,null,null,{"$f":"IF($D9=\"\",\"\",VLOOKUP($D9,初期画面!$M$4:$Q$20,2))","v":""},{"$f":"IF($D9=\"\",\"\",VLOOKUP($D9,初期画面!$M$4:$Q$20,3))","v":""},{"$f":"IF($D9=\"\",\"\",VLOOKUP($D9,初期画面!$M$4:$Q$20,4))","v":""},{"$f":"IF($D9=\"\",\"\",VLOOKUP($D9,初期画面!$M$4:$Q$20,5))","v":""}]
[null,null,"日","曜",null,"午前",null,"午後",null,"夜間","相談室",null,null,null,{"$f":"初期画面!M3","v":"番号"},{"$f":"初期画面!N3","v":"使用団体名"}]
[null,null,1,{"$f":"IF(C11=\"\",\"\",WEEKDAY(DATE('１月'!$B$4,$B$5,C11)))","v":2},{"$f":"IF($C11=\"\",\"\",DATE($B$4,$B$5,$C11))","v":44256},null,null,null,null,null,null,null,null,null,{"$f":"初期画面!M4","v":1},{"$f":"初期画面!N4","v":"都留市学童保育連絡協議会"}]
[null,null,2,{"$f":"IF(C12=\"\",\"\",WEEKDAY(DATE('１月'!$B$4,$B$5,C12)))","v":3},{"$f":"IF($C12=\"\",\"\",DATE($B$4,$B$5,$C12))","v":44257},null,null,null,null,null,null,null,null,null,{"$f":"初期画面!M5","v":2},{"$f":"初期画面!N5","v":"つる山友会"}]
[null,null,3,{"$f":"IF(C13=\"\",\"\",WEEKDAY(DATE('１月'!$B$4,$B$5,C13)))","v":4},44258,null,null,null,null,null,null,null,null,null,{"$f":"初期画面!M6","v":3},{"$f":"初期画面!N6","v":"ソロプチミスト山梨-芙蓉"}]
[null,null,4,{"$f":"IF(C14=\"\",\"\",WEEKDAY(DATE('１月'!$B$4,$B$5,C14)))","v":5},44259,null,null,null,null,null,null,null,null,null,{"$f":"初期画面!M7","v":4},{"$f":"初期画面!N7","v":"都留市養護教員会"}]
[null,null,5,{"$f":"IF(C15=\"\",\"\",WEEKDAY(DATE('１月'!$B$4,$B$5,C15)))","v":6},44260,null,null,null,null,null,null,null,null,null,{"$f":"初期画面!M8","v":5},{"$f":"初期画面!N8","v":"都留市合唱連盟"}]
[null,null,6,{"$f":"IF(C16=\"\",\"\",WEEKDAY(DATE('１月'!$B$4,$B$5,C16)))","v":7},44261,null,null,null,null,null,null,null,null,null,{"$f":"初期画面!M9","v":6},{"$f":"初期画面!N9","v":"退職公務員連盟"}]
[null,null,7,{"$f":"IF(C17=\"\",\"\",WEEKDAY(DATE('１月'!$B$4,$B$5,C17)))","v":1},44262,null,null,null,null,null,null,null,null,null,{"$f":"初期画面!M10","v":7},{"$f":"初期画面!N10","v":"教育会"}]
[null,null,8,{"$f":"IF(C18=\"\",\"\",WEEKDAY(DATE('１月'!$B$4,$B$5,C18)))","v":2},44263,null,null,null,null,null,null,null,null,null,{"$f":"初期画面!M11","v":8},{"$f":"初期画面!N11","v":"都留市学校事務共同実施担当者会"}]
[null,null,9,{"$f":"IF(C19=\"\",\"\",WEEKDAY(DATE('１月'!$B$4,$B$5,C19)))","v":3},44264,null,null,"13:30~15:30ソロプチミスト山梨",null,null,null,null,null,null,{"$f":"初期画面!M12","v":9},{"$f":"初期画面!N12","v":"教頭会"}]
[null,null,10,{"$f":"IF(C20=\"\",\"\",WEEKDAY(DATE('１月'!$B$4,$B$5,C20)))","v":4},44265,null,null,null,null,null,null,null,null,null,{"$f":"初期画面!M13","v":10},{"$f":"初期画面!N13","v":0}]
[null,null,11,{"$f":"IF(C21=\"\",\"\",WEEKDAY(DATE('１月'!$B$4,$B$5,C21)))","v":5},44266,null,null,null,null,null,null,null,null,null,{"$f":"初期画面!M14","v":11},{"$f":"初期画面!N14","v":0}]
[null,null,12,{"$f":"IF(C22=\"\",\"\",WEEKDAY(DATE('１月'!$B$4,$B$5,C22)))","v":6},44267,null,null,null,null,null,null,null,null,null,{"$f":"初期画面!M15","v":12},{"$f":"初期画面!N15","v":0}]
[null,null,13,{"$f":"IF(C23=\"\",\"\",WEEKDAY(DATE('１月'!$B$4,$B$5,C23)))","v":7},44268,null,null,null,null,null,null,null,null,null,{"$f":"初期画面!M16","v":13},{"$f":"初期画面!N16","v":0}]
[null,null,14,{"$f":"IF(C24=\"\",\"\",WEEKDAY(DATE('１月'!$B$4,$B$5,C24)))","v":1},44269,null,null,null,null,null,null,null,null,null,{"$f":"初期画面!M17","v":14},{"$f":"初期画面!N17","v":0}]
[null,null,15,{"$f":"IF(C25=\"\",\"\",WEEKDAY(DATE('１月'!$B$4,$B$5,C25)))","v":2},44270,null,null,null,null,null,null,null,null,null,{"$f":"初期画面!M18","v":15},{"$f":"初期画面!N18","v":0}]
[null,null,16,{"$f":"IF(C26=\"\",\"\",WEEKDAY(DATE('１月'!$B$4,$B$5,C26)))","v":3},44271,null,null,null,null,null,null,null,null,null,{"$f":"初期画面!M19","v":16},{"$f":"初期画面!N19","v":0}]
[null,null,17,{"$f":"IF(C27=\"\",\"\",WEEKDAY(DATE('１月'!$B$4,$B$5,C27)))","v":4},44272,null,null,null,null,null,null,null,null,null,{"$f":"初期画面!M20","v":17},{"$f":"初期画面!N20","v":0}]
[null,null,18,{"$f":"IF(C28=\"\",\"\",WEEKDAY(DATE('１月'!$B$4,$B$5,C28)))","v":5},44273]
[null,null,19,{"$f":"IF(C29=\"\",\"\",WEEKDAY(DATE('１月'!$B$4,$B$5,C29)))","v":6},44274]
[null,null,20,{"$f":"IF(C30=\"\",\"\",WEEKDAY(DATE('１月'!$B$4,$B$5,C30)))","v":7},44275]
[null,null,21,{"$f":"IF(C31=\"\",\"\",WEEKDAY(DATE('１月'!$B$4,$B$5,C31)))","v":1},44276]
[null,null,22,{"$f":"IF(C32=\"\",\"\",WEEKDAY(DATE('１月'!$B$4,$B$5,C32)))","v":2},44277]
[null,null,23,{"$f":"IF(C33=\"\",\"\",WEEKDAY(DATE('１月'!$B$4,$B$5,C33)))","v":3},44278]
[null,null,24,{"$f":"IF(C34=\"\",\"\",WEEKDAY(DATE('１月'!$B$4,$B$5,C34)))","v":4},44279]
[null,null,25,{"$f":"IF(C35=\"\",\"\",WEEKDAY(DATE('１月'!$B$4,$B$5,C35)))","v":5},44280]
[null,null,26,{"$f":"IF(C36=\"\",\"\",WEEKDAY(DATE('１月'!$B$4,$B$5,C36)))","v":6},44281]
[null,null,27,{"$f":"IF(C37=\"\",\"\",WEEKDAY(DATE('１月'!$B$4,$B$5,C37)))","v":7},44282]
[null,null,28,{"$f":"IF(C38=\"\",\"\",WEEKDAY(DATE('１月'!$B$4,$B$5,C38)))","v":1},44283]
[null,null,29,{"$f":"IF(C39=\"\",\"\",WEEKDAY(DATE('１月'!$B$4,$B$5,C39)))","v":2},44284]
[null,null,30,{"$f":"IF(C40=\"\",\"\",WEEKDAY(DATE('１月'!$B$4,$B$5,C40)))","v":3},44285]
[null,null,31,{"$f":"IF(C41=\"\",\"\",WEEKDAY(DATE('１月'!$B$4,$B$5,C41)))","v":4},44286]
[null,null,"当月合計",null,null,null,{"$f":"COUNTA(G11:G41)+COUNTA(F11:F41)","v":0},null,{"$f":"COUNTA(I11:I41)+COUNTA(H11:H41)","v":1},{"$f":"COUNTA(J11:J41)","v":0},{"$f":"COUNTA(K11:K41)","v":0}]
[null,null,"累計",null,null,null,{"$f":"'２月'!G43+G42","v":3},null,{"$f":"'２月'!I43+I42","v":17},{"$f":"'２月'!J43+J42","v":8},{"$f":"'２月'!K43+K42","v":0}]
[null,null,"貸出回数総累計（相談室を除く）",null,null,null,{"$f":"SUM(G43,I43,J43)","v":28}]

{"sheet":"使用申込書","index":13,"n_rows":37,"n_cols":26,"rows_kept":37,"cut":false,"hidden":false,"merged":[[32,7,32,9],[34,7,34,9],[2,6,3,21],[5,17,5,18],[10,17,10,26],[12,17,12,26],[29,14,29,15],[29,16,29,17],[29,19,29,20],[10,13,10,16],[12,13,12,16],[14,1,16,5],[17,1,25,5],[26,1,30,5],[31,1,37,5],[14,6,16,26],[24,13,24,24],[27,9,27,10],[27,12,27,13],[27,15,27,16],[29,8,29,9],[29,11,29,12],[20,9,20,11],[36,7,36,9],[34,11,34,25],[32,11,33,25],[36,11,36,25]]}
[]
[]
[null,null,null,null,null,null,"会議室使用申込書"]
[]
[]
[null,null,null,null,null,null,null,null,null,null,null,null,null,null,null,null,null,"令和",null,null,"年",null,"月",null,"日"]
[]
["都留市教育研修センター　御中"]
[]
[]
[null,null,null,null,null,null,null,null,null,null,null,null,null,"申込者氏名"]
[]
[null,null,null,null,null,null,null,null,null,null,null,null,null,"電話番号"]
[]
[null,"使用団体"]
[]
[]
[null,"使用目的"]
[null,null,null,null,null,null,null,"該当するところに〇印をつけて下さい"]
[]
[null,null,null,null,null,null,null,null,null,"会議",null,null,null,"研究・研修会",null,null,null,null,null,null,"講習会"]
[]
[]
[]
[null,null,null,null,null,null,null,null,null,"その他",null,null,"（　　　　　　　　　　　　　　　　　　　　　　　　）",null,null,null,null,null,null,null,null,null,null,null,null,"）"]
[]
[null,"使用時間"]
[null,null,null,null,null,null,null,"令和　　　　年　　　　　月　　　　　日　　（　　　　　）曜日",null,null,null,"年",null,null,"月",null,null,"日","（　　　　）"]
[]
[null,null,null,null,null,null,null,null,null,null,"時　　　　　　分　～　　　　　時　　　　　　分",null,null,"分","～",null,null,null,"時",null,null,"分"]
[]
[null,"責任者"]
[null,null,null,null,null,null,null,"住所"]
[]
[null,null,null,null,null,null,null,"氏名"]
[]
[null,null,null,null,null,null,null,"電話番号"]

{"sheet":"祝日","index":14,"n_rows":39,"n_cols":13,"rows_kept":39,"cut":false,"hidden":false,"merged":[[13,0,15,0],[1,0,2,0],[3,0,6,0],[7,0,8,0],[9,0,10,0],[11,0,12,0],[32,0,34,0],[35,0,36,0],[16,0,17,0],[18,0,21,0],[21,6,21,8],[22,0,26,0],[27,0,31,0],[27,6,27,8]]}
["月",{"$f":"初期画面!C3","v":2020},"祝日","月","日",null,null,null,null,null,"枠内にコピーすると良い"]
["４月",{"$f":"IF(D2=\"\",\"\",DATE($B$1,D2,E2))","v":"2020-04-29"},"昭和の日",4,29,null,null,null,null,"2020年","日付","祝日"]
[null,"",null,null,null,null,null,null,null,1,"2020-01-01","(水)","元日"]
["５月","2020-05-03","憲法記念日",5,3,null,null,null,null,2,"2020-01-13","(月)","成人の日"]
[null,"2020-05-04","みどりの日",5,4,null,null,null,null,3,"2020-02-11","(火)","建国記念の日"]
[null,"2020-05-05","こどもの日",5,5,null,null,null,null,null,"2020-02-23","(日)","天皇誕生日"]
[null,"2020-05-06","振替休日",5,6,null,null,null,null,4,"2020-02-24","(月)","振替休日"]
["６月","",null,null,null,null,null,null,null,5,"2020-03-20","(金)","春分の日"]
[null,"",null,null,null,null,null,null,null,6,"2020-04-29","(水)","昭和の日"]
["７月","2020-07-23","海の日",7,23,null,null,null,null,null,"2020-05-03","(日)","憲法記念日"]
[null,"2020-07-24","スポーツの日",7,24,null,null,null,null,7,"2020-05-04","(月)","振替休日"]
["８月","2020-08-10","山の日",8,10,null,null,null,null,8,"2020-05-04","(月)","みどりの日"]
[null,"",null,null,null,null,null,null,null,9,"2020-05-05","(火)","こどもの日"]
["９月","2020-09-21","敬老の日",9,21,null,null,null,null,null,"2020-05-06","(木)","振替休日"]
[null,"2020-09-22","秋分の日",9,22,null,null,null,null,10,"2020-07-23","(木)","海の日"]
[null,"",null,null,null,null,null,null,null,10,"2020-07-24","(金)","スポーツの日"]
["１０月","2020-10-12","体育の日",10,12,null,null,null,null,11,"2020-08-10","(月)","山の日"]
[null,"",null,null,null,null,null,null,null,12,"2020-09-21","(月)","敬老の日"]
["１１月","2020-11-03","文化の日",11,3,null,null,null,null,13,"2020-09-22","(火)","秋分の日"]
[null,"2020-11-20","県民の日",11,20,null,null,null,null,14,"2020-10-12","(月)","体育の日"]
[null,"2020-11-23","勤労感謝の日",11,23,null,"祝日データ",null,null,15,"2020-11-03","(火)","文化の日"]
[null,"",null,null,null,null,"日本の祝日カレンダー",null,null,16,"2020-11-23","(月)","勤労感謝の日"]
["１２月","",null,null,null,null,null,null,null,"２０２１年"]
[null,"",null,null,null,null,null,null,null,1,"2021-01-01","(金)","元日"]
[null,"2020-12-29","年末休暇",12,29,null,null,null,null,2,"2021-01-11","(月)","成人の日"]
[null,"2020-12-30","年末休暇",12,30,null,null,null,null,3,"2021-02-11","(木)","建国記念の日"]
[null,"2020-12-31","年末休暇",12,31,null,null,null,null,4,"2021-02-23","(火)","天皇誕生日"]
["１月",{"$f":"IF(D28=\"\",\"\",DATE($B$1+1,D28,E28))","v":"2021-01-01"},"元旦",1,1,null,null,null,null,null,"2021-03-20","(土)","春分の日"]
[null,"2021-01-02","年始休暇",1,2,null,null,null,null,5,"2021-04-29","(木)","昭和の日"]
[null,"2021-01-03","年始休暇",1,3,null,null,null,null,6,"2021-05-03","(月)","憲法記念日"]
[null,"2021-01-13","成人の日",1,13,null,null,null,null,7,"2021-05-04","(火)","みどりの日"]
[null,"",null,null,null,null,null,null,null,8,"2021-05-05","(水)","こどもの日"]
["２月","2021-02-11","建国記念の日",2,11,null,null,null,null,9,"2021-07-19","(月)","海の日"]
[null,"2021-02-23","天皇誕生日",2,23,null,null,null,null,10,"2021-08-11","(水)","山の日"]
[null,"",null,null,null,null,null,null,null,11,"2021-09-20","(月)","敬老の日"]
["３月","2021-03-20","春分の日",3,20,null,null,null,null,12,"2021-09-23","(木)","秋分の日"]
[null,"",null,null,null,null,null,null,null,13,"2021-10-11","(月)","体育の日"]
[null,"祝日範囲","B2:B37",null,null,null,null,null,null,14,"2021-11-03","(水)","文化の日"]
[null,"※年末・年始休暇は表示の都合上祝日にしてあります。",null,null,null,null,null,null,null,15,"2021-11-23","(火)","勤労感謝の日"]